BEGIN:VCALENDAR
VERSION:2.0
PRODID:-//פורטל מצודה - ECPv5.14.2.1//NONSGML v1.0//EN
CALSCALE:GREGORIAN
METHOD:PUBLISH
X-ORIGINAL-URL:https://www.metzuda.co.il
X-WR-CALDESC:Events for פורטל מצודה
REFRESH-INTERVAL;VALUE=DURATION:PT1H
X-Robots-Tag:noindex
X-PUBLISHED-TTL:PT1H
BEGIN:VTIMEZONE
TZID:Europe/Helsinki
BEGIN:DAYLIGHT
TZOFFSETFROM:+0200
TZOFFSETTO:+0300
TZNAME:EEST
DTSTART:20240331T010000
END:DAYLIGHT
BEGIN:STANDARD
TZOFFSETFROM:+0300
TZOFFSETTO:+0200
TZNAME:EET
DTSTART:20241027T010000
END:STANDARD
END:VTIMEZONE
BEGIN:VEVENT
DTSTART;TZID=Europe/Helsinki:20240611T080000
DTEND;TZID=Europe/Helsinki:20240613T170000
DTSTAMP:20260421T072143
CREATED:20240517T114620Z
LAST-MODIFIED:20240517T114620Z
UID:12718-1718092800-1718298000@www.metzuda.co.il
SUMMARY:אכיפת החוק - הפורום לביטחון פנים ותערוכת הטכנולוגיה
DESCRIPTION:אכיפת חוק – פורום אבטחת קרקע ותערוכת טכנולוגיה – NCSI\nברוכים הבאים לפורום אכיפת החוק-ביטחון פנים ותערוכת טכנולוגיה 2024. אירוע זה עזר לבנות שותפויות\, לשתף ולשלב מודיעין\, לחזק שיתופי פעולה ולגשר על טכנולוגיה לאורך השנים. \nפורום מסווג זה יכלול דוברים מרכזיים\, דיוני פאנל\, מקרי מקרים\, מצגות ונושאים אחרים הרלוונטיים לאכיפת החוק הפדרלית ולביטחון המולדת\, לקהילת המודיעין ולקהילת הביטחון הלאומי הרחבה יותר. \nסדר היום של הפורום יכלול נושאים כגון:. \nהפורום יכלול מוצרים\, טכנולוגיות ותוכניות מהממשלה והתעשייה אשר יוצגו במהלך תערוכת הטכנולוגיה הבלתי מסווגת שתתקיים ב-12 ביוני. במהלך האקספו\, משתתפי הפורום ייחשפו לטכנולוגיות\, תוכניות\, מומחיות בנושא\, כלים לניהול נתונים/אנליזה\, יכולות גיאו-מרחביות/מיפוי\, ומוצרים אחרים לתמיכה במשימת הביטחון הלאומי וביטחון המולדת שלהם. \nהצטרפו אלינו וליותר מ-250 נציגים מה-DoD\, ביטחון המולדת\, המודיעין\, אכיפת החוק הלאומית והקהילות התומכות כדי לחקור\, להחליף מידע ולרשת על נושאי ביטחון לאומי חשובים. \nמציגים: ד"ר מתיו ג'ונסון (CDAO); CDR מיכאל האנה (ONI). \nמה זה אומר כשסגן שר ההגנה אומר שבינה מלאכותית אחראית תעזור לנו לנצח בתחרות אסטרטגית? "לא למרות הערכים שלנו אלא בגללם '…" מצגת זו מסבירה את מאמצי ה-DoD ליישם בינה מלאכותית אחראית\, וכיצד הוא מקיים את היתרון התחרותי שלנו. מצגת זו בוחנת מבט מעמיק יותר על מרכיב מרכזי בגישת הבינה המלאכותית האחראית של DoD: ערכת הכלים של Responsible AI. ערכת הכלים היא תהליך המאפשר לפרויקטים של בינה מלאכותית לזהות\, לעקוב ולמתן בעיות RAI\, כמו גם לנצל הזדמנויות הקשורות ל-RAI לחדשנות\, באמצעות שימוש בהערכות\, כלים וחפצים מודולריים וניתנים להתאמה. ערכת הכלים בנויה על שני עמודים\, הערכת SHIELD ו-Defense AI Guide on Risks (DAGR)\, שניהם מתייחסים לסיכוני AI בצורה הוליסטית. ערכת הכלים מאפשרת ניהול סיכונים\, מעקב והבטחות של פיתוח\, תרגול ושימוש אחראי בינה מלאכותית.
URL:https://www.metzuda.co.il/event/%d7%90%d7%9b%d7%99%d7%a4%d7%aa-%d7%94%d7%97%d7%95%d7%a7-%d7%94%d7%a4%d7%95%d7%a8%d7%95%d7%9d-%d7%9c%d7%91%d7%99%d7%98%d7%97%d7%95%d7%9f-%d7%a4%d7%a0%d7%99%d7%9d-%d7%95%d7%aa%d7%a2%d7%a8%d7%95%d7%9b/
LOCATION:https://iw.cantonfair.net/location/9694-chantilly-jd-hill-conference-center-nro-virginia-usa
END:VEVENT
END:VCALENDAR