BEGIN:VCALENDAR
VERSION:2.0
PRODID:-//פורטל מצודה - ECPv5.14.2.1//NONSGML v1.0//EN
CALSCALE:GREGORIAN
METHOD:PUBLISH
X-ORIGINAL-URL:https://www.metzuda.co.il
X-WR-CALDESC:Events for פורטל מצודה
REFRESH-INTERVAL;VALUE=DURATION:PT1H
X-Robots-Tag:noindex
X-PUBLISHED-TTL:PT1H
BEGIN:VTIMEZONE
TZID:Europe/Helsinki
BEGIN:DAYLIGHT
TZOFFSETFROM:+0200
TZOFFSETTO:+0300
TZNAME:EEST
DTSTART:20250330T010000
END:DAYLIGHT
BEGIN:STANDARD
TZOFFSETFROM:+0300
TZOFFSETTO:+0200
TZNAME:EET
DTSTART:20251026T010000
END:STANDARD
END:VTIMEZONE
BEGIN:VEVENT
DTSTART;VALUE=DATE:20250506
DTEND;VALUE=DATE:20250509
DTSTAMP:20260421T042308
CREATED:20240717T090749Z
LAST-MODIFIED:20240717T090842Z
UID:15145-1746489600-1746748799@www.metzuda.co.il
SUMMARY:תערוכת DEFEA  באתונה
DESCRIPTION:ב 6-8 למאי 2025 \, תערך באתונה תערוכת DEFEA. תערוכה ביטחונית \, הנערכת זו הפעם השלישית\, בחסות משרד הביטחון היווני\, המנהל הכללי להשקעות ולחימוש (GDDIA) ובתמיכת איגוד היצרנים ההלני של מוצרי ביטחון .  התערוכה הקודמת\, שנערכה במאי 2023\, נרשמה כהצלחה\, הן בקרב המציגים\, והן המבקרים\, אשר דיווחו על שביעות רצון מתוצאותיה. מישראל\, השתתפו כ- 20 חברות מתעשיית הביטחון.  קישור לאתר התערוכה\nסיב"ט\, אלביט\, רפאל\, התעשייה האוירית וUVISION\,אירונוטיקס \,Regulusכבר אישרו את השתתפותן ב 2025.\nתערוכת DEFEA  נועדה לתת מענה לצרכי התעשיה ומערכת הביטחון ביוון והאזור. יוון נמצאת במיקום אסטרטגי חשוב במזרח התיכון על גבולה הדרומי של נאט"ו. ב DEFEA יוצגו מערכות הגנה יבשתיות\, ימיות\, ואוויריות כמו גם מערכות חלל HLS וסייבר.\nפרופיל המבקרים בתערוכה מורכב ממשלחות בינלאומיות\, אנשי צבא ופקידי ממשל\, דרג צבאי וממשלתי בכיר מאירופה\, הבלקן\, המזרח התיכון הרחב וצפון אפריקה.\nלתערוכה זו יגיעו מקבלי ההחלטות מרחבי העולם על מנת לדון בהתפתחויות ושיתופי פעולה ביניהם\, שרים\, מזכירי ביטחון והעוסקים בתחום ההגנה האזרחית;  מנהלי רכש של ציוד צבאי וביטחוני\, בכירים בארגוני משטרה\, כבאות ורשויות הנמל ; שגרירים\, נספחים כלכליים וצבאיים ;  בכירים במשמרות החופים הבינלאומיים.\n\nכמו כן יבקרו בDEFEA  נציגים של היחידה ההלנית המיוחדת למצבי חירום לאומי (EMAK)\, היחידה המיוחדת ללוחמה בטרור הלני (EKAM)\, שירותי מודיעין\, כוחות מיוחדים ועוד.\n\nבהמשך המייל מופיעה מפת התערוכה הנמצאת בסמוך לשדה תעופה של אתונה.\nמצורף לינק לראות את אולם 2 בו ממוקם האזור הישראלי ( אולם 1 לא יהיה חלק מהתערוכה.)\n\nמצורפת תמונת תקריב על האזור הישראלי.\n\nגודל ביתן מינימלי: 15 מ"ר\nדמי הרשמה 300 יורו\nמחיר למ"ר שטח בלבד: 390 יורו
URL:https://www.metzuda.co.il/event/%d7%aa%d7%a2%d7%a8%d7%95%d7%9b%d7%aa-defea-%d7%91%d7%90%d7%aa%d7%95%d7%a0%d7%94/
LOCATION:אתונה\, Greece
END:VEVENT
END:VCALENDAR