BEGIN:VCALENDAR
VERSION:2.0
PRODID:-//פורטל מצודה - ECPv5.14.2.1//NONSGML v1.0//EN
CALSCALE:GREGORIAN
METHOD:PUBLISH
X-ORIGINAL-URL:https://www.metzuda.co.il
X-WR-CALDESC:Events for פורטל מצודה
REFRESH-INTERVAL;VALUE=DURATION:PT1H
X-Robots-Tag:noindex
X-PUBLISHED-TTL:PT1H
BEGIN:VTIMEZONE
TZID:Europe/Helsinki
BEGIN:DAYLIGHT
TZOFFSETFROM:+0200
TZOFFSETTO:+0300
TZNAME:EEST
DTSTART:20240331T010000
END:DAYLIGHT
BEGIN:STANDARD
TZOFFSETFROM:+0300
TZOFFSETTO:+0200
TZNAME:EET
DTSTART:20241027T010000
END:STANDARD
END:VTIMEZONE
BEGIN:VEVENT
DTSTART;TZID=Europe/Helsinki:20240529T080000
DTEND;TZID=Europe/Helsinki:20240530T170000
DTSTAMP:20260421T071758
CREATED:20220601T124506Z
LAST-MODIFIED:20230702T073753Z
UID:1529-1716969600-1717088400@www.metzuda.co.il
SUMMARY:CANSEC CANADA 2024
DESCRIPTION:תערוכת סחר גלובלית להגנה וביטחון בקנדה.
URL:https://www.metzuda.co.il/event/cansec-canada-2024/
LOCATION:EY Centre\, Ottawa\, Canada\, OTTAWA\, Canada
CATEGORIES:תערוכות בטחון,תערוכות סחר
END:VEVENT
END:VCALENDAR