BEGIN:VCALENDAR
VERSION:2.0
PRODID:-//פורטל מצודה - ECPv5.14.2.1//NONSGML v1.0//EN
CALSCALE:GREGORIAN
METHOD:PUBLISH
X-ORIGINAL-URL:https://www.metzuda.co.il
X-WR-CALDESC:Events for פורטל מצודה
REFRESH-INTERVAL;VALUE=DURATION:PT1H
X-Robots-Tag:noindex
X-PUBLISHED-TTL:PT1H
BEGIN:VTIMEZONE
TZID:Europe/Helsinki
BEGIN:DAYLIGHT
TZOFFSETFROM:+0200
TZOFFSETTO:+0300
TZNAME:EEST
DTSTART:20220327T010000
END:DAYLIGHT
BEGIN:STANDARD
TZOFFSETFROM:+0300
TZOFFSETTO:+0200
TZNAME:EET
DTSTART:20221030T010000
END:STANDARD
END:VTIMEZONE
BEGIN:VEVENT
DTSTART;TZID=Europe/Helsinki:20220613T080000
DTEND;TZID=Europe/Helsinki:20220614T170000
DTSTAMP:20260423T131517
CREATED:20220524T070359Z
LAST-MODIFIED:20220524T070359Z
UID:1322-1655107200-1655226000@www.metzuda.co.il
SUMMARY:CYBERTECH GLOBAL UAE-DUBAI
DESCRIPTION:Since 2014\, Cybertech has been the cyber industry’s foremost networking platform\, holding industry-related events all around the globe. On June 13-14\, 2022\, Cybertech will return to the Grand Hyatt\, Dubai\, to take the main stage and discuss our ever-changing reality. \nCybertech Global UAE-Dubai conference and exhibition will feature the latest innovative solutions from dozens of companies and top-notch speakers – senior government officials\, C-level executives\, and industry trailblazers from around the world.
URL:https://www.metzuda.co.il/event/cybertech-global-uae-dubai/
LOCATION:Dubai\, United Arab Emirates\, Riyadh Street\, Sheikh Rashid Road
END:VEVENT
END:VCALENDAR