BEGIN:VCALENDAR
VERSION:2.0
PRODID:-//פורטל מצודה - ECPv5.14.2.1//NONSGML v1.0//EN
CALSCALE:GREGORIAN
METHOD:PUBLISH
X-ORIGINAL-URL:https://www.metzuda.co.il
X-WR-CALDESC:Events for פורטל מצודה
REFRESH-INTERVAL;VALUE=DURATION:PT1H
X-Robots-Tag:noindex
X-PUBLISHED-TTL:PT1H
BEGIN:VTIMEZONE
TZID:Europe/Helsinki
BEGIN:DAYLIGHT
TZOFFSETFROM:+0200
TZOFFSETTO:+0300
TZNAME:EEST
DTSTART:20220327T010000
END:DAYLIGHT
BEGIN:STANDARD
TZOFFSETFROM:+0300
TZOFFSETTO:+0200
TZNAME:EET
DTSTART:20221030T010000
END:STANDARD
END:VTIMEZONE
BEGIN:VEVENT
DTSTART;TZID=Europe/Helsinki:20220517T100000
DTEND;TZID=Europe/Helsinki:20220519T160000
DTSTAMP:20260423T162242
CREATED:20220513T103158Z
LAST-MODIFIED:20220622T141432Z
UID:1285-1652781600-1652976000@www.metzuda.co.il
SUMMARY:IFSEC לונדון
DESCRIPTION:IFSEC International 2022 is your unmatched opportunity to network and do business with the entire security buying chain\, discover solutions and see real products put to the test across access control\, video surveillance\, cybersecurity and more. Learn how to keep people and assets safe\, enhance your knowledge\, keep up to date with legislation\, source products and grow your network through our series of online and in-person events.
URL:https://www.metzuda.co.il/event/ifsec-%d7%9c%d7%95%d7%a0%d7%93%d7%95%d7%9f/
LOCATION:לונדון ExCeL\, London\, United Kingdom
CATEGORIES:תערוכות בטחון
END:VEVENT
END:VCALENDAR