BEGIN:VCALENDAR
VERSION:2.0
PRODID:-//פורטל מצודה - ECPv5.14.2.1//NONSGML v1.0//EN
CALSCALE:GREGORIAN
METHOD:PUBLISH
X-ORIGINAL-URL:https://www.metzuda.co.il
X-WR-CALDESC:Events for פורטל מצודה
REFRESH-INTERVAL;VALUE=DURATION:PT1H
X-Robots-Tag:noindex
X-PUBLISHED-TTL:PT1H
BEGIN:VTIMEZONE
TZID:Europe/Helsinki
BEGIN:DAYLIGHT
TZOFFSETFROM:+0200
TZOFFSETTO:+0300
TZNAME:EEST
DTSTART:20240331T010000
END:DAYLIGHT
BEGIN:STANDARD
TZOFFSETFROM:+0300
TZOFFSETTO:+0200
TZNAME:EET
DTSTART:20241027T010000
END:STANDARD
END:VTIMEZONE
BEGIN:VEVENT
DTSTART;TZID=Europe/Helsinki:20240604T080000
DTEND;TZID=Europe/Helsinki:20240606T170000
DTSTAMP:20260421T071830
CREATED:20230410T110703Z
LAST-MODIFIED:20230702T074806Z
UID:4910-1717488000-1717693200@www.metzuda.co.il
SUMMARY:Infosecurity Europe 2024
DESCRIPTION:Infosecurity Europe מאחדת את קהילת האבטחה כדי לטפח עתיד בטוח\, חזק ומאובטח יותר על ידי שיתוף מידע\, בניית מערכות יחסים ומתן מרחב לקהילה לדון במגמות\, להתגבר על אתגרים ולגלות טכנולוגיה חדשה.
URL:https://www.metzuda.co.il/event/infosecurity-europe-2024/
LOCATION:ExCel Exhibition Centre\, London\, United Kingdom (UK)\, London\, United Kingdom
CATEGORIES:תערוכות בטחון
END:VEVENT
END:VCALENDAR