BEGIN:VCALENDAR
VERSION:2.0
PRODID:-//פורטל מצודה - ECPv5.14.2.1//NONSGML v1.0//EN
CALSCALE:GREGORIAN
METHOD:PUBLISH
X-ORIGINAL-URL:https://www.metzuda.co.il
X-WR-CALDESC:Events for פורטל מצודה
REFRESH-INTERVAL;VALUE=DURATION:PT1H
X-Robots-Tag:noindex
X-PUBLISHED-TTL:PT1H
BEGIN:VTIMEZONE
TZID:Europe/Helsinki
BEGIN:DAYLIGHT
TZOFFSETFROM:+0200
TZOFFSETTO:+0300
TZNAME:EEST
DTSTART:20260329T010000
END:DAYLIGHT
BEGIN:STANDARD
TZOFFSETFROM:+0300
TZOFFSETTO:+0200
TZNAME:EET
DTSTART:20261025T010000
END:STANDARD
END:VTIMEZONE
BEGIN:VEVENT
DTSTART;TZID=Europe/Helsinki:20260601T080000
DTEND;TZID=Europe/Helsinki:20260606T170000
DTSTAMP:20260421T052912
CREATED:20220526T073903Z
LAST-MODIFIED:20221226T135543Z
UID:1378-1780300800-1780765200@www.metzuda.co.il
SUMMARY:INTERSCHUTZ 2026
DESCRIPTION:תערוכת בטיחות וגהות אש בגרמניה
URL:https://www.metzuda.co.il/event/interschutz/
LOCATION:Germany\, Hannover\, Germany
CATEGORIES:תערוכות בטיחות
END:VEVENT
BEGIN:VEVENT
DTSTART;VALUE=DATE:20260602
DTEND;VALUE=DATE:20260605
DTSTAMP:20260421T052912
CREATED:20260107T102417Z
LAST-MODIFIED:20260107T102658Z
UID:35761-1780358400-1780617599@www.metzuda.co.il
SUMMARY:Infosecurity Europe 2026
DESCRIPTION:
URL:https://www.metzuda.co.il/event/infosecurity-europe-2026/
LOCATION:ExCeL London\, London\, United Kingdom
END:VEVENT
BEGIN:VEVENT
DTSTART;VALUE=DATE:20260602
DTEND;VALUE=DATE:20260604
DTSTAMP:20260421T052912
CREATED:20260114T103306Z
LAST-MODIFIED:20260114T103306Z
UID:35914-1780358400-1780531199@www.metzuda.co.il
SUMMARY:שבוע אבטחת הגבולות של אפריקה
DESCRIPTION:
URL:https://www.metzuda.co.il/event/%d7%a9%d7%91%d7%95%d7%a2-%d7%90%d7%91%d7%98%d7%97%d7%aa-%d7%94%d7%92%d7%91%d7%95%d7%9c%d7%95%d7%aa-%d7%a9%d7%9c-%d7%90%d7%a4%d7%a8%d7%99%d7%a7%d7%94/
LOCATION:קייפטאון\, South Africa
END:VEVENT
END:VCALENDAR