BEGIN:VCALENDAR
VERSION:2.0
PRODID:-//פורטל מצודה - ECPv5.14.2.1//NONSGML v1.0//EN
CALSCALE:GREGORIAN
METHOD:PUBLISH
X-ORIGINAL-URL:https://www.metzuda.co.il
X-WR-CALDESC:Events for פורטל מצודה
REFRESH-INTERVAL;VALUE=DURATION:PT1H
X-Robots-Tag:noindex
X-PUBLISHED-TTL:PT1H
BEGIN:VTIMEZONE
TZID:Europe/Helsinki
BEGIN:DAYLIGHT
TZOFFSETFROM:+0200
TZOFFSETTO:+0300
TZNAME:EEST
DTSTART:20260329T010000
END:DAYLIGHT
BEGIN:STANDARD
TZOFFSETFROM:+0300
TZOFFSETTO:+0200
TZNAME:EET
DTSTART:20261025T010000
END:STANDARD
BEGIN:DAYLIGHT
TZOFFSETFROM:+0200
TZOFFSETTO:+0300
TZNAME:EEST
DTSTART:20270328T010000
END:DAYLIGHT
BEGIN:STANDARD
TZOFFSETFROM:+0300
TZOFFSETTO:+0200
TZNAME:EET
DTSTART:20271031T010000
END:STANDARD
END:VTIMEZONE
BEGIN:VEVENT
DTSTART;VALUE=DATE:20260615
DTEND;VALUE=DATE:20260619
DTSTAMP:20260421T081931
CREATED:20250311T092532Z
LAST-MODIFIED:20250311T092532Z
UID:26175-1781481600-1781827199@www.metzuda.co.il
SUMMARY:EUROSATORY  פריז
DESCRIPTION:
URL:https://www.metzuda.co.il/event/eurosatory-%d7%a4%d7%a8%d7%99%d7%96/
LOCATION:פריז
CATEGORIES:תערוכות בטחון
END:VEVENT
BEGIN:VEVENT
DTSTART;VALUE=DATE:20260624
DTEND;VALUE=DATE:20260626
DTSTAMP:20260421T081931
CREATED:20260107T103625Z
LAST-MODIFIED:20260107T103625Z
UID:35769-1782259200-1782431999@www.metzuda.co.il
SUMMARY:תערוכת ביטחון המולדת 2026 הודו
DESCRIPTION:
URL:https://www.metzuda.co.il/event/%d7%aa%d7%a2%d7%a8%d7%95%d7%9b%d7%aa-%d7%91%d7%99%d7%98%d7%97%d7%95%d7%9f-%d7%94%d7%9e%d7%95%d7%9c%d7%93%d7%aa-2026-%d7%94%d7%95%d7%93%d7%95/
LOCATION:New Delhi India\, India
END:VEVENT
BEGIN:VEVENT
DTSTART;VALUE=DATE:20260708
DTEND;VALUE=DATE:20260709
DTSTAMP:20260421T081931
CREATED:20260107T102936Z
LAST-MODIFIED:20260107T102936Z
UID:35766-1783468800-1783555199@www.metzuda.co.il
SUMMARY:אבטחה TWENTY 26 תערוכת מנצ'סטר
DESCRIPTION:
URL:https://www.metzuda.co.il/event/%d7%90%d7%91%d7%98%d7%97%d7%94-twenty-26-%d7%aa%d7%a2%d7%a8%d7%95%d7%9b%d7%aa-%d7%9e%d7%a0%d7%a6%d7%a1%d7%98%d7%a8/
LOCATION:MANCHESTER\, United Kingdom
END:VEVENT
BEGIN:VEVENT
DTSTART;VALUE=DATE:20260708
DTEND;VALUE=DATE:20260709
DTSTAMP:20260421T081931
CREATED:20260107T112244Z
LAST-MODIFIED:20260107T112244Z
UID:35778-1783468800-1783555199@www.metzuda.co.il
SUMMARY:אבטחה TWENTY 26 תערוכת מנצ'סטר
DESCRIPTION:
URL:https://www.metzuda.co.il/event/%d7%90%d7%91%d7%98%d7%97%d7%94-twenty-26-%d7%aa%d7%a2%d7%a8%d7%95%d7%9b%d7%aa-%d7%9e%d7%a0%d7%a6%d7%a1%d7%98%d7%a8-2/
LOCATION:MANCHESTER\, United Kingdom
END:VEVENT
BEGIN:VEVENT
DTSTART;VALUE=DATE:20260901
DTEND;VALUE=DATE:20260903
DTSTAMP:20260421T081931
CREATED:20260107T111518Z
LAST-MODIFIED:20260107T112102Z
UID:35772-1788220800-1788393599@www.metzuda.co.il
SUMMARY:ISC ברזיל 2026
DESCRIPTION:
URL:https://www.metzuda.co.il/event/isc-%d7%91%d7%a8%d7%96%d7%99%d7%9c-3/
LOCATION:BRAZIL\, Brazil
END:VEVENT
BEGIN:VEVENT
DTSTART;VALUE=DATE:20260907
DTEND;VALUE=DATE:20260909
DTSTAMP:20260421T081931
CREATED:20260107T113056Z
LAST-MODIFIED:20260107T113235Z
UID:35782-1788739200-1788911999@www.metzuda.co.il
SUMMARY:DSEI UK 2027
DESCRIPTION:
URL:https://www.metzuda.co.il/event/dsei-uk-2027/
LOCATION:ExCeL London\, London\, United Kingdom
END:VEVENT
BEGIN:VEVENT
DTSTART;VALUE=DATE:20260922
DTEND;VALUE=DATE:20260924
DTSTAMP:20260421T081931
CREATED:20260114T091225Z
LAST-MODIFIED:20260114T091225Z
UID:35900-1790035200-1790207999@www.metzuda.co.il
SUMMARY:BORDER TECHNOLOGY SUMMIT
DESCRIPTION:
URL:https://www.metzuda.co.il/event/border-technology-summit/
LOCATION:sun diago\, California\, United States
END:VEVENT
BEGIN:VEVENT
DTSTART;VALUE=DATE:20261105
DTEND;VALUE=DATE:20261106
DTSTAMP:20260421T081931
CREATED:20260107T112447Z
LAST-MODIFIED:20260107T112447Z
UID:35780-1793836800-1793923199@www.metzuda.co.il
SUMMARY:תערוכת אבטחה TWENTY 26  לונדון הית'רו
DESCRIPTION:
URL:https://www.metzuda.co.il/event/%d7%aa%d7%a2%d7%a8%d7%95%d7%9b%d7%aa-%d7%90%d7%91%d7%98%d7%97%d7%94-twenty-26-%d7%9c%d7%95%d7%a0%d7%93%d7%95%d7%9f-%d7%94%d7%99%d7%aa%d7%a8%d7%95/
LOCATION:london\, United Kingdom
END:VEVENT
BEGIN:VEVENT
DTSTART;VALUE=DATE:20261202
DTEND;VALUE=DATE:20261205
DTSTAMP:20260421T081931
CREATED:20260114T095811Z
LAST-MODIFIED:20260114T095811Z
UID:35907-1796169600-1796428799@www.metzuda.co.il
SUMMARY:BMIC  כנס ניהול גבולות וזהות
DESCRIPTION:
URL:https://www.metzuda.co.il/event/bmic-%d7%9b%d7%a0%d7%a1-%d7%a0%d7%99%d7%94%d7%95%d7%9c-%d7%92%d7%91%d7%95%d7%9c%d7%95%d7%aa-%d7%95%d7%96%d7%94%d7%95%d7%aa/
LOCATION:Bangkok\, Thailand\, Bangkok\, Thailand
END:VEVENT
BEGIN:VEVENT
DTSTART;VALUE=DATE:20270125
DTEND;VALUE=DATE:20270130
DTSTAMP:20260421T081931
CREATED:20250311T090609Z
LAST-MODIFIED:20260413T071942Z
UID:26160-1800835200-1801267199@www.metzuda.co.il
SUMMARY:INDEX דובאי 2027
DESCRIPTION:
URL:https://www.metzuda.co.il/event/index-%d7%93%d7%95%d7%91%d7%90%d7%99-2027/
LOCATION:DUBAI
CATEGORIES:תערוכות בטחון
END:VEVENT
BEGIN:VEVENT
DTSTART;VALUE=DATE:20270418
DTEND;VALUE=DATE:20270421
DTSTAMP:20260421T081931
CREATED:20260107T094516Z
LAST-MODIFIED:20260107T094516Z
UID:35745-1808006400-1808265599@www.metzuda.co.il
SUMMARY:תערוכת DEFEA באתונה
DESCRIPTION:
URL:https://www.metzuda.co.il/event/%d7%aa%d7%a2%d7%a8%d7%95%d7%9b%d7%aa-defea-%d7%91%d7%90%d7%aa%d7%95%d7%a0%d7%94-2/
LOCATION:ETHENS\, Greece
END:VEVENT
BEGIN:VEVENT
DTSTART;VALUE=DATE:20270428
DTEND;VALUE=DATE:20270501
DTSTAMP:20260421T081931
CREATED:20260107T100042Z
LAST-MODIFIED:20260107T100042Z
UID:35754-1808870400-1809129599@www.metzuda.co.il
SUMMARY:DESEI JAPAN
DESCRIPTION:
URL:https://www.metzuda.co.il/event/desei-japan/
LOCATION:JAPAN\, Japan
END:VEVENT
BEGIN:VEVENT
DTSTART;VALUE=DATE:20270428
DTEND;VALUE=DATE:20270501
DTSTAMP:20260421T081931
CREATED:20260413T071751Z
LAST-MODIFIED:20260413T071751Z
UID:37550-1808870400-1809129599@www.metzuda.co.il
SUMMARY:DSEI Japan 2027
DESCRIPTION:
URL:https://www.metzuda.co.il/event/dsei-japan-2027/
LOCATION:טוקיו\, 2 Chome-1 Nakase\, Mihama Ward\, Chiba\, 261-8550\, יפן\, טוקיו
CATEGORIES:כנסי אבטחה ובטיחות,תערוכות בטחון
END:VEVENT
BEGIN:VEVENT
DTSTART;VALUE=DATE:20271116
DTEND;VALUE=DATE:20271120
DTSTAMP:20260421T081931
CREATED:20260115T102153Z
LAST-MODIFIED:20260115T102258Z
UID:35932-1826323200-1826668799@www.metzuda.co.il
SUMMARY:milipol paris תערוכה לביטחון פנים
DESCRIPTION:
URL:https://www.metzuda.co.il/event/milipol-paris-%d7%9b%d7%a0%d7%a1-%d7%91%d7%99%d7%98%d7%97%d7%95%d7%9f-%d7%a4%d7%a0%d7%99%d7%9d/
LOCATION:paris\, paris\, France
END:VEVENT
END:VCALENDAR