BEGIN:VCALENDAR
VERSION:2.0
PRODID:-//פורטל מצודה - ECPv5.14.2.1//NONSGML v1.0//EN
CALSCALE:GREGORIAN
METHOD:PUBLISH
X-ORIGINAL-URL:https://www.metzuda.co.il
X-WR-CALDESC:Events for פורטל מצודה
REFRESH-INTERVAL;VALUE=DURATION:PT1H
X-Robots-Tag:noindex
X-PUBLISHED-TTL:PT1H
BEGIN:VTIMEZONE
TZID:Europe/Helsinki
BEGIN:DAYLIGHT
TZOFFSETFROM:+0200
TZOFFSETTO:+0300
TZNAME:EEST
DTSTART:20220327T010000
END:DAYLIGHT
BEGIN:STANDARD
TZOFFSETFROM:+0300
TZOFFSETTO:+0200
TZNAME:EET
DTSTART:20221030T010000
END:STANDARD
END:VTIMEZONE
BEGIN:VEVENT
DTSTART;TZID=Europe/Helsinki:20221025T080000
DTEND;TZID=Europe/Helsinki:20221025T170000
DTSTAMP:20260422T042921
CREATED:20220816T084602Z
LAST-MODIFIED:20220816T084602Z
UID:2495-1666684800-1666717200@www.metzuda.co.il
SUMMARY:השתלמות ניהול אבטחת אירועים המוניים ואירועי ספורט - מכללת קורפוס
DESCRIPTION:השתלמות ניהול אבטחת אירועים המוניים ואירועי ספורט\, מונחה משטרת ישראל – מכללת קורפוס
URL:https://www.metzuda.co.il/event/%d7%94%d7%a9%d7%aa%d7%9c%d7%9e%d7%95%d7%aa-%d7%a0%d7%99%d7%94%d7%95%d7%9c-%d7%90%d7%91%d7%98%d7%97%d7%aa-%d7%90%d7%99%d7%a8%d7%95%d7%a2%d7%99%d7%9d-%d7%94%d7%9e%d7%95%d7%a0%d7%99%d7%99%d7%9d-%d7%95-4/
LOCATION:היסמין 1\, רמת אפעל\, 5296000\, היסמין 1\, רמת אפעל\, Israel
CATEGORIES:קורסים ורענונים
END:VEVENT
BEGIN:VEVENT
DTSTART;TZID=Europe/Helsinki:20221019T080000
DTEND;TZID=Europe/Helsinki:20221019T170000
DTSTAMP:20260422T042921
CREATED:20220816T062613Z
LAST-MODIFIED:20220816T062922Z
UID:2492-1666166400-1666198800@www.metzuda.co.il
SUMMARY:השתלמות ניהול אבטחת אירועים המוניים ואירועי ספורט - מכללת קורפוס
DESCRIPTION:השתלמות ניהול אבטחת אירועים המוניים ואירועי ספורט\, מונחה משטרת ישראל – מכללת קורפוס
URL:https://www.metzuda.co.il/event/%d7%94%d7%a9%d7%aa%d7%9c%d7%9e%d7%95%d7%aa-%d7%a0%d7%99%d7%94%d7%95%d7%9c-%d7%90%d7%91%d7%98%d7%97%d7%aa-%d7%90%d7%99%d7%a8%d7%95%d7%a2%d7%99%d7%9d-%d7%94%d7%9e%d7%95%d7%a0%d7%99%d7%99%d7%9d-%d7%95-3/
LOCATION:היסמין 1\, רמת אפעל\, 5296000\, היסמין 1\, רמת אפעל\, Israel
CATEGORIES:קורסים ורענונים
END:VEVENT
BEGIN:VEVENT
DTSTART;TZID=Europe/Helsinki:20221006T080000
DTEND;TZID=Europe/Helsinki:20221006T170000
DTSTAMP:20260422T042921
CREATED:20220816T062426Z
LAST-MODIFIED:20220816T062426Z
UID:2490-1665043200-1665075600@www.metzuda.co.il
SUMMARY:השתלמות ניהול אבטחת אירועים המוניים ואירועי ספורט - מכללת קורפוס
DESCRIPTION:השתלמות ניהול אבטחת אירועים המוניים ואירועי ספורט\, מונחה משטרת ישראל – מכללת קורפוס
URL:https://www.metzuda.co.il/event/%d7%94%d7%a9%d7%aa%d7%9c%d7%9e%d7%95%d7%aa-%d7%a0%d7%99%d7%94%d7%95%d7%9c-%d7%90%d7%91%d7%98%d7%97%d7%aa-%d7%90%d7%99%d7%a8%d7%95%d7%a2%d7%99%d7%9d-%d7%94%d7%9e%d7%95%d7%a0%d7%99%d7%99%d7%9d-%d7%95-2/
LOCATION:היסמין 1\, רמת אפעל\, 5296000\, היסמין 1\, רמת אפעל\, Israel
CATEGORIES:קורסים ורענונים
END:VEVENT
BEGIN:VEVENT
DTSTART;TZID=Europe/Helsinki:20221003T080000
DTEND;TZID=Europe/Helsinki:20221003T170000
DTSTAMP:20260422T042921
CREATED:20220814T125500Z
LAST-MODIFIED:20220816T054045Z
UID:2414-1664784000-1664816400@www.metzuda.co.il
SUMMARY:ריענון למנהלי אבטחה לניהול אירועים במרכז ללימודי חוץ של אוניברסיטת אריאל
DESCRIPTION:ריענון למנהלי אבטחה לניהול אירועים במרכז ללימודי חוץ של אוניברסיטת אריאל חלק שני
URL:https://www.metzuda.co.il/event/%d7%a8%d7%99%d7%a2%d7%a0%d7%95%d7%9f-%d7%9c%d7%9e%d7%a0%d7%94%d7%9c%d7%99-%d7%90%d7%91%d7%98%d7%97%d7%94-%d7%9c%d7%a0%d7%99%d7%94%d7%95%d7%9c-%d7%90%d7%99%d7%a8%d7%95%d7%a2%d7%99%d7%9d-%d7%91%d7%9e-2/
LOCATION:שדרות ההשכלה 20\, תל אביב-יפו\, תל אביב - יפו\, Israel
CATEGORIES:קורסים ורענונים
END:VEVENT
BEGIN:VEVENT
DTSTART;TZID=Europe/Helsinki:20221002T080000
DTEND;TZID=Europe/Helsinki:20221003T170000
DTSTAMP:20260422T042921
CREATED:20220816T060236Z
LAST-MODIFIED:20220816T060236Z
UID:2473-1664697600-1664816400@www.metzuda.co.il
SUMMARY:קורס מפעילי מוקד - מכללת קורפוס
DESCRIPTION:קורס מפעילי מוקד\, מונחה משטרת ישראל – מכללת קורפוס בימים 29/09\, 02/10\, 03/10
URL:https://www.metzuda.co.il/event/%d7%a7%d7%95%d7%a8%d7%a1-%d7%9e%d7%a4%d7%a2%d7%99%d7%9c%d7%99-%d7%9e%d7%95%d7%a7%d7%93-%d7%9e%d7%9b%d7%9c%d7%9c%d7%aa-%d7%a7%d7%95%d7%a8%d7%a4%d7%95%d7%a1-2/
LOCATION:היסמין 1\, רמת אפעל\, 5296000\, היסמין 1\, רמת אפעל\, Israel
CATEGORIES:קורסים ורענונים
END:VEVENT
BEGIN:VEVENT
DTSTART;TZID=Europe/Helsinki:20220929T080000
DTEND;TZID=Europe/Helsinki:20220929T170000
DTSTAMP:20260422T042921
CREATED:20220928T105804Z
LAST-MODIFIED:20220928T105946Z
UID:3072-1664438400-1664470800@www.metzuda.co.il
SUMMARY:כנס קב"טים ארצי
DESCRIPTION:
URL:https://www.metzuda.co.il/event/%d7%9b%d7%a0%d7%a1-%d7%90%d7%99%d7%92%d7%95%d7%93-%d7%a7%d7%a6%d7%99%d7%a0%d7%99-%d7%94%d7%91%d7%99%d7%98%d7%97%d7%95%d7%9f-%d7%95%d7%9e%d7%a0%d7%94%d7%9c%d7%99-%d7%94%d7%97%d7%99%d7%a8%d7%95%d7%9d/
LOCATION:D-one אולם אירועים דרום השרון
CATEGORIES:כנסי אבטחה ובטיחות
END:VEVENT
BEGIN:VEVENT
DTSTART;TZID=Europe/Helsinki:20220929T080000
DTEND;TZID=Europe/Helsinki:20220929T170000
DTSTAMP:20260422T042921
CREATED:20220816T062318Z
LAST-MODIFIED:20220816T062318Z
UID:2487-1664438400-1664470800@www.metzuda.co.il
SUMMARY:השתלמות ניהול אבטחת אירועים המוניים ואירועי ספורט - מכללת קורפוס
DESCRIPTION:השתלמות ניהול אבטחת אירועים המוניים ואירועי ספורט\, מונחה משטרת ישראל – מכללת קורפוס
URL:https://www.metzuda.co.il/event/%d7%94%d7%a9%d7%aa%d7%9c%d7%9e%d7%95%d7%aa-%d7%a0%d7%99%d7%94%d7%95%d7%9c-%d7%90%d7%91%d7%98%d7%97%d7%aa-%d7%90%d7%99%d7%a8%d7%95%d7%a2%d7%99%d7%9d-%d7%94%d7%9e%d7%95%d7%a0%d7%99%d7%99%d7%9d-%d7%95/
LOCATION:היסמין 1\, רמת אפעל\, 5296000\, היסמין 1\, רמת אפעל\, Israel
CATEGORIES:קורסים ורענונים
END:VEVENT
BEGIN:VEVENT
DTSTART;TZID=Europe/Helsinki:20220929T080000
DTEND;TZID=Europe/Helsinki:20220929T170000
DTSTAMP:20260422T042921
CREATED:20220816T055917Z
LAST-MODIFIED:20220816T060127Z
UID:2469-1664438400-1664470800@www.metzuda.co.il
SUMMARY:קורס מפעילי מוקד - מכללת קורפוס
DESCRIPTION:קורס מפעילי מוקד\, מונחה משטרת ישראל – מכללת קורפוס בימים 29/09\, 02/10\, 03/10
URL:https://www.metzuda.co.il/event/%d7%a7%d7%95%d7%a8%d7%a1-%d7%9e%d7%a4%d7%a2%d7%99%d7%9c%d7%99-%d7%9e%d7%95%d7%a7%d7%93-%d7%9e%d7%9b%d7%9c%d7%9c%d7%aa-%d7%a7%d7%95%d7%a8%d7%a4%d7%95%d7%a1/
LOCATION:היסמין 1\, רמת אפעל\, 5296000\, היסמין 1\, רמת אפעל\, Israel
CATEGORIES:קורסים ורענונים
END:VEVENT
BEGIN:VEVENT
DTSTART;TZID=Europe/Helsinki:20220921T080000
DTEND;TZID=Europe/Helsinki:20220923T170000
DTSTAMP:20260422T042921
CREATED:20220602T135532Z
LAST-MODIFIED:20220602T135532Z
UID:1584-1663747200-1663952400@www.metzuda.co.il
SUMMARY:Biometrics India Expo
DESCRIPTION:תערוכה בתחום טכנולוגיות ביומטריות בהודו.
URL:https://www.metzuda.co.il/event/biometrics-india-expo/
LOCATION:India Exposition Mart\, Greater Noida\, India\, India
CATEGORIES:תערוכות טכנולוגיות בתחום האבטחה ומתח נמוך
END:VEVENT
BEGIN:VEVENT
DTSTART;TZID=Europe/Helsinki:20220920T080000
DTEND;TZID=Europe/Helsinki:20220920T170000
DTSTAMP:20260422T042921
CREATED:20220816T061328Z
LAST-MODIFIED:20220816T061328Z
UID:2481-1663660800-1663693200@www.metzuda.co.il
SUMMARY:ריענון מנהלי אבטחה - מכללת קורפוס
DESCRIPTION:ריענון מנהלי אבטחה\, מונחה משטרת ישראל\, ריענון דו יומי בחודש ספטמבר – מכללת קורפוס
URL:https://www.metzuda.co.il/event/%d7%a8%d7%99%d7%a2%d7%a0%d7%95%d7%9f-%d7%9e%d7%a0%d7%94%d7%9c%d7%99-%d7%90%d7%91%d7%98%d7%97%d7%94-%d7%9e%d7%9b%d7%9c%d7%9c%d7%aa-%d7%a7%d7%95%d7%a8%d7%a4%d7%95%d7%a1-2/
LOCATION:היסמין 1\, רמת אפעל\, 5296000\, היסמין 1\, רמת אפעל\, Israel
CATEGORIES:קורסים ורענונים
END:VEVENT
BEGIN:VEVENT
DTSTART;TZID=Europe/Helsinki:20220919T080000
DTEND;TZID=Europe/Helsinki:20220919T170000
DTSTAMP:20260422T042921
CREATED:20220816T061821Z
LAST-MODIFIED:20220816T061821Z
UID:2484-1663574400-1663606800@www.metzuda.co.il
SUMMARY:קורס מנהלי אבטחה - מכללת קורפוס
DESCRIPTION:קורס מנהלי אבטחה\, מונחה משטרת ישראל – מכללת קורפוס
URL:https://www.metzuda.co.il/event/%d7%a7%d7%95%d7%a8%d7%a1-%d7%9e%d7%a0%d7%94%d7%9c%d7%99-%d7%90%d7%91%d7%98%d7%97%d7%94-%d7%9e%d7%9b%d7%9c%d7%9c%d7%aa-%d7%a7%d7%95%d7%a8%d7%a4%d7%95%d7%a1/
LOCATION:היסמין 1\, רמת אפעל\, 5296000\, היסמין 1\, רמת אפעל\, Israel
CATEGORIES:קורסים ורענונים
END:VEVENT
BEGIN:VEVENT
DTSTART;TZID=Europe/Helsinki:20220919T080000
DTEND;TZID=Europe/Helsinki:20220919T170000
DTSTAMP:20260422T042921
CREATED:20220814T125127Z
LAST-MODIFIED:20220816T054126Z
UID:2411-1663574400-1663606800@www.metzuda.co.il
SUMMARY:ריענון למנהלי אבטחה לניהול אירועים במרכז ללימודי חוץ של אוניברסיטת אריאל
DESCRIPTION:ריענון למנהלי אבטחה לניהול אירועים במרכז ללימודי חוץ של אוניברסיטת אריאל חלק א.
URL:https://www.metzuda.co.il/event/%d7%a8%d7%99%d7%a2%d7%a0%d7%95%d7%9f-%d7%9c%d7%9e%d7%a0%d7%94%d7%9c%d7%99-%d7%90%d7%91%d7%98%d7%97%d7%94-%d7%9c%d7%a0%d7%99%d7%94%d7%95%d7%9c-%d7%90%d7%99%d7%a8%d7%95%d7%a2%d7%99%d7%9d-%d7%91%d7%9e/
LOCATION:שדרות ההשכלה 20\, תל אביב-יפו\, תל אביב - יפו\, Israel
CATEGORIES:קורסים ורענונים
END:VEVENT
BEGIN:VEVENT
DTSTART;TZID=Europe/Helsinki:20220913T080000
DTEND;TZID=Europe/Helsinki:20220913T170000
DTSTAMP:20260422T042921
CREATED:20220901T101914Z
LAST-MODIFIED:20220901T102004Z
UID:2698-1663056000-1663088400@www.metzuda.co.il
SUMMARY:הכנס הלאומי ה-9 להיערכות ולהתמודדות עם מצבי חירום ISDEF
DESCRIPTION:מפגש פיסגה מקצועי של כל הגורמים והגופים האחראים על ההתמודדות והטיפול במצבי חירום ובאסונות ברמה הלאומית ISDEF
URL:https://www.metzuda.co.il/event/%d7%94%d7%9b%d7%a0%d7%a1-%d7%94%d7%9c%d7%90%d7%95%d7%9e%d7%99-%d7%94-9-%d7%9c%d7%94%d7%99%d7%a2%d7%a8%d7%9b%d7%95%d7%aa-%d7%95%d7%9c%d7%94%d7%aa%d7%9e%d7%95%d7%93%d7%93%d7%95%d7%aa-%d7%a2%d7%9d-%d7%9e/
LOCATION:מרכז הכנסים החדש מועצה אזורית – דרום השרון\, Israel
CATEGORIES:תערוכות בטיחות אש
END:VEVENT
BEGIN:VEVENT
DTSTART;TZID=Europe/Helsinki:20220913T080000
DTEND;TZID=Europe/Helsinki:20220913T170000
DTSTAMP:20260422T042921
CREATED:20220816T061136Z
LAST-MODIFIED:20220816T061211Z
UID:2478-1663056000-1663088400@www.metzuda.co.il
SUMMARY:ריענון מנהלי אבטחה - מכללת קורפוס
DESCRIPTION:ריענון מנהלי אבטחה\, מונחה משטרת ישראל\, ריענון דו יומי בחודש ספטמבר – מכללת קורפוס
URL:https://www.metzuda.co.il/event/%d7%a8%d7%99%d7%a2%d7%a0%d7%95%d7%9f-%d7%9e%d7%a0%d7%94%d7%9c%d7%99-%d7%90%d7%91%d7%98%d7%97%d7%94-%d7%9e%d7%9b%d7%9c%d7%9c%d7%aa-%d7%a7%d7%95%d7%a8%d7%a4%d7%95%d7%a1/
LOCATION:היסמין 1\, רמת אפעל\, 5296000\, היסמין 1\, רמת אפעל\, Israel
CATEGORIES:קורסים ורענונים
END:VEVENT
BEGIN:VEVENT
DTSTART;TZID=Europe/Helsinki:20220912T080000
DTEND;TZID=Europe/Helsinki:20220912T170000
DTSTAMP:20260422T042921
CREATED:20220814T123650Z
LAST-MODIFIED:20220816T054209Z
UID:2404-1662969600-1663002000@www.metzuda.co.il
SUMMARY:ריענון למנהלי אבטחה המרכז ללימודי חוץ של אוניברסיטת אריאל
DESCRIPTION:ריענון למנהלי אבטחה המרכז ללימודי חוץ של אוניברסיטת אריאל חלק ב.
URL:https://www.metzuda.co.il/event/%d7%a8%d7%99%d7%a2%d7%a0%d7%95%d7%9f-%d7%9c%d7%9e%d7%a0%d7%94%d7%9c%d7%99-%d7%90%d7%91%d7%98%d7%97%d7%94-%d7%94%d7%9e%d7%a8%d7%9b%d7%96-%d7%9c%d7%9c%d7%99%d7%9e%d7%95%d7%93%d7%99-%d7%97%d7%95%d7%a5/
LOCATION:שדרות ההשכלה 20\, תל אביב-יפו\, תל אביב - יפו\, Israel
CATEGORIES:קורסים ורענונים
END:VEVENT
BEGIN:VEVENT
DTSTART;TZID=Europe/Helsinki:20220907T080000
DTEND;TZID=Europe/Helsinki:20220907T170000
DTSTAMP:20260422T042921
CREATED:20220814T124921Z
LAST-MODIFIED:20220816T054235Z
UID:2409-1662537600-1662570000@www.metzuda.co.il
SUMMARY:השתלמות תשאול וחקירה במרכז ללימודי חוץ של אוניברסיטת אריאל
DESCRIPTION:השתלמות תשאול וחקירה במרכז ללימודי חוץ של אוניברסיטת אריאל.
URL:https://www.metzuda.co.il/event/%d7%94%d7%a9%d7%aa%d7%9c%d7%9e%d7%95%d7%aa-%d7%aa%d7%a9%d7%90%d7%95%d7%9c-%d7%95%d7%97%d7%a7%d7%99%d7%a8%d7%94-%d7%91%d7%9e%d7%a8%d7%9b%d7%96-%d7%9c%d7%9c%d7%99%d7%9e%d7%95%d7%93%d7%99-%d7%97%d7%95/
LOCATION:שדרות ההשכלה 20\, תל אביב-יפו\, תל אביב - יפו\, Israel
CATEGORIES:קורסים ורענונים
END:VEVENT
BEGIN:VEVENT
DTSTART;TZID=Europe/Helsinki:20220905T080000
DTEND;TZID=Europe/Helsinki:20220905T170000
DTSTAMP:20260422T042921
CREATED:20220814T123909Z
LAST-MODIFIED:20220816T054556Z
UID:2406-1662364800-1662397200@www.metzuda.co.il
SUMMARY:קורס ניהול אבטחה באירועים היחידה ללימודי חוץ של אוניברסיטת אריאל
DESCRIPTION:קורס ניהול אבטחה באירועים היחידה ללימודי חוץ של אוניברסיטת אריאל.
URL:https://www.metzuda.co.il/event/%d7%a7%d7%95%d7%a8%d7%a1-%d7%a0%d7%99%d7%94%d7%95%d7%9c-%d7%90%d7%91%d7%98%d7%97%d7%94-%d7%91%d7%90%d7%99%d7%a8%d7%95%d7%a2%d7%99%d7%9d-%d7%94%d7%99%d7%97%d7%99%d7%93%d7%94-%d7%9c%d7%9c%d7%99%d7%9e/
LOCATION:שדרות ההשכלה 20\, תל אביב-יפו\, תל אביב - יפו\, Israel
CATEGORIES:קורסים ורענונים
END:VEVENT
BEGIN:VEVENT
DTSTART;TZID=Europe/Helsinki:20220905T080000
DTEND;TZID=Europe/Helsinki:20220905T170000
DTSTAMP:20260422T042921
CREATED:20220811T130741Z
LAST-MODIFIED:20220816T054627Z
UID:2396-1662364800-1662397200@www.metzuda.co.il
SUMMARY:ריענון למנהלי אבטחה המרכז ללימודי חוץ של אוניברסיטת אריאל
DESCRIPTION:ריענון למנהלי אבטחה המרכז ללימודי חוץ של אוניברסיטת אריאל חלק א.
URL:https://www.metzuda.co.il/event/%d7%a8%d7%99%d7%a2%d7%a0%d7%95%d7%9f-%d7%9c%d7%9e%d7%a0%d7%94%d7%9c%d7%99-%d7%90%d7%91%d7%98%d7%97%d7%94-%d7%90%d7%95%d7%a0%d7%99%d7%91%d7%a8%d7%a1%d7%99%d7%98%d7%aa-%d7%90%d7%a8%d7%99%d7%90%d7%9c/
LOCATION:שדרות ההשכלה 20\, תל אביב-יפו\, תל אביב - יפו\, Israel
CATEGORIES:קורסים ורענונים
END:VEVENT
BEGIN:VEVENT
DTSTART;TZID=Europe/Helsinki:20220903T080000
DTEND;TZID=Europe/Helsinki:20220904T170000
DTSTAMP:20260422T042921
CREATED:20220720T102348Z
LAST-MODIFIED:20220720T102348Z
UID:1797-1662192000-1662310800@www.metzuda.co.il
SUMMARY:Capital City Gun Show
DESCRIPTION:תערוכת הנשק של צפון קרוליינה\, ראלי ארצות הברית.
URL:https://www.metzuda.co.il/event/capital-city-gun-show/
LOCATION:NC State Fair\, Raleigh\, USA\, Raleigh\, United States
CATEGORIES:תערוכות נשק
END:VEVENT
BEGIN:VEVENT
DTSTART;TZID=Europe/Helsinki:20220820T080000
DTEND;TZID=Europe/Helsinki:20220821T170000
DTSTAMP:20260422T042921
CREATED:20220720T094137Z
LAST-MODIFIED:20220720T094137Z
UID:1790-1660982400-1661101200@www.metzuda.co.il
SUMMARY:Dallas Arms Collectors Association Gun & Knife Show
DESCRIPTION:תערוכת הנשק של איגוד אספני הנשק של דאלאס 2022
URL:https://www.metzuda.co.il/event/dallas-arms-collectors-association-gun-knife-show/
LOCATION:Southfork Ranch\, Parker\, USA\, Texas\, United States
CATEGORIES:תערוכות נשק
END:VEVENT
BEGIN:VEVENT
DTSTART;TZID=Europe/Helsinki:20220806T080000
DTEND;TZID=Europe/Helsinki:20220811T170000
DTSTAMP:20260422T042921
CREATED:20220606T094609Z
LAST-MODIFIED:20220606T094609Z
UID:1593-1659772800-1660237200@www.metzuda.co.il
SUMMARY:Black Hat USA
DESCRIPTION:כנס בנושא אבטחת סייבר לאס וגאס וארצות הברית
URL:https://www.metzuda.co.il/event/black-hat-usa/
LOCATION:Mandalay Bay Convention Center\, Las Vegas\, USA\, Las Vegas\, United States
CATEGORIES:תערוכות סייבר
END:VEVENT
BEGIN:VEVENT
DTSTART;TZID=Europe/Helsinki:20220727T080000
DTEND;TZID=Europe/Helsinki:20220727T170000
DTSTAMP:20260422T042921
CREATED:20220712T090649Z
LAST-MODIFIED:20220712T090649Z
UID:1714-1658908800-1658941200@www.metzuda.co.il
SUMMARY:FIRETECH 2022 Tel Aviv
DESCRIPTION:כנס הביטחון של   Israel Defense שבתל אביב
URL:https://www.metzuda.co.il/event/firetech-2022-tel-aviv/
LOCATION:באודיטוריום סמולרז | אוניברסיטת תל אביב\, Tel aviv\, Israel
CATEGORIES:תערוכות בטחון
END:VEVENT
BEGIN:VEVENT
DTSTART;TZID=Europe/Helsinki:20220725T080000
DTEND;TZID=Europe/Helsinki:20220728T170000
DTSTAMP:20260422T042921
CREATED:20220602T122619Z
LAST-MODIFIED:20220602T122619Z
UID:1568-1658736000-1659027600@www.metzuda.co.il
SUMMARY:International Conference on Security and Management 2022
DESCRIPTION:כנס בינלאומי לביטחון וניהול בלאס וגאס ארצות הברית. 
URL:https://www.metzuda.co.il/event/international-conference-on-security-and-management-2022/
LOCATION:Luxor Resort\, Las Vegas\, USA\, Las Vegas\, United States
CATEGORIES:תערוכות בטחון
END:VEVENT
BEGIN:VEVENT
DTSTART;TZID=Europe/Helsinki:20220723T080000
DTEND;TZID=Europe/Helsinki:20220724T170000
DTSTAMP:20260422T042921
CREATED:20220705T100530Z
LAST-MODIFIED:20220705T100530Z
UID:1702-1658563200-1658682000@www.metzuda.co.il
SUMMARY:Gonzales Gun Show
DESCRIPTION:תערוכת נשק גונזלס לוס אנג'לס  ארצות הברית
URL:https://www.metzuda.co.il/event/gonzales-gun-show/
LOCATION:Lamar Dixon Expo Center\, Gonzales\, USA\, Gonzales\, United States
CATEGORIES:תערוכות נשק
END:VEVENT
BEGIN:VEVENT
DTSTART;TZID=Europe/Helsinki:20220722T080000
DTEND;TZID=Europe/Helsinki:20220724T170000
DTSTAMP:20260422T042921
CREATED:20220705T095456Z
LAST-MODIFIED:20220721T151441Z
UID:1698-1658476800-1658682000@www.metzuda.co.il
SUMMARY:The Nation's Gun Show
DESCRIPTION:תערוכת הנשק של דאלס ארצות הברית \nhttps://www.thenationsgunshow.com/
URL:https://www.metzuda.co.il/event/the-nations-gun-show/
LOCATION:Dulles Expo Center\, Chantilly\, USA\, Dulles\, United States
CATEGORIES:תערוכות נשק
END:VEVENT
BEGIN:VEVENT
DTSTART;TZID=Europe/Helsinki:20220716T080000
DTEND;TZID=Europe/Helsinki:20220717T170000
DTSTAMP:20260422T042921
CREATED:20220705T085005Z
LAST-MODIFIED:20220705T085005Z
UID:1694-1657958400-1658077200@www.metzuda.co.il
SUMMARY:Gun & Knife Show
DESCRIPTION:תערוכת נשק לייקוויל\, ארצות הברית
URL:https://www.metzuda.co.il/event/gun-knife-show/
LOCATION:Lakeville Hasse Arena\, Lakeville\, USA\, Lakeville\, United States
CATEGORIES:תערוכות נשק
END:VEVENT
BEGIN:VEVENT
DTSTART;TZID=Europe/Helsinki:20220716T080000
DTEND;TZID=Europe/Helsinki:20220717T170000
DTSTAMP:20260422T042921
CREATED:20220705T082907Z
LAST-MODIFIED:20220705T082907Z
UID:1691-1657958400-1658077200@www.metzuda.co.il
SUMMARY:Texas Gun and Knife Show Amarillo
DESCRIPTION:תערוכות הנשק של ארמדילו ארצות הברית
URL:https://www.metzuda.co.il/event/texas-gun-and-knife-show-amarillo/
LOCATION:Amarillo Civic Center\, Amarillo\, USA\, Amarillo\, United States
CATEGORIES:תערוכות נשק
END:VEVENT
BEGIN:VEVENT
DTSTART;TZID=Europe/Helsinki:20220716T080000
DTEND;TZID=Europe/Helsinki:20220717T170000
DTSTAMP:20260422T042921
CREATED:20220704T124440Z
LAST-MODIFIED:20220704T124440Z
UID:1687-1657958400-1658077200@www.metzuda.co.il
SUMMARY:PE Gun Shows - Colorado
DESCRIPTION:תערוכת הנשק של קולורדו ארצות הברית
URL:https://www.metzuda.co.il/event/pe-gun-shows-colorado/
LOCATION:Greeley Mall\, Greeley\, USA\, Greeley\, United States
CATEGORIES:תערוכות נשק
END:VEVENT
BEGIN:VEVENT
DTSTART;TZID=Europe/Helsinki:20220709T080000
DTEND;TZID=Europe/Helsinki:20220710T170000
DTSTAMP:20260422T042921
CREATED:20220704T101001Z
LAST-MODIFIED:20220704T101001Z
UID:1680-1657353600-1657472400@www.metzuda.co.il
SUMMARY:Crossroads Of The West Gun Shows Phoenix
DESCRIPTION:תערוכת הנשק שבפיניקס אריזונה ארצות הברית
URL:https://www.metzuda.co.il/event/crossroads-of-the-west-gun-shows-phoenix/
LOCATION:Arizona State Fair\, Phoenix\, USA\, Arizona\, United States
CATEGORIES:תערוכות נשק
END:VEVENT
BEGIN:VEVENT
DTSTART;TZID=Europe/Helsinki:20220705T080000
DTEND;TZID=Europe/Helsinki:20220705T170000
DTSTAMP:20260422T042921
CREATED:20220529T065608Z
LAST-MODIFIED:20220529T065608Z
UID:1393-1657008000-1657040400@www.metzuda.co.il
SUMMARY:ISDEF EMERGENCY הכנס הלאומי ה - 9
DESCRIPTION:הכנס הלאומי ה-9 להיערכות ולהתמודדות עם מצבי חירום בישראל
URL:https://www.metzuda.co.il/event/isdef-emergency-%d7%94%d7%9b%d7%a0%d7%a1-%d7%94%d7%9c%d7%90%d7%95%d7%9e%d7%99-%d7%94-9/
LOCATION:ישראל דרום השרון\, מרכז הכנסים החדש מועצה אזורית - דרום השרון\, דרום השרון\, Israel
CATEGORIES:תערוכות חירום
END:VEVENT
END:VCALENDAR