BEGIN:VCALENDAR
VERSION:2.0
PRODID:-//פורטל מצודה - ECPv5.14.2.1//NONSGML v1.0//EN
CALSCALE:GREGORIAN
METHOD:PUBLISH
X-ORIGINAL-URL:https://www.metzuda.co.il
X-WR-CALDESC:Events for פורטל מצודה
REFRESH-INTERVAL;VALUE=DURATION:PT1H
X-Robots-Tag:noindex
X-PUBLISHED-TTL:PT1H
BEGIN:VTIMEZONE
TZID:Europe/Helsinki
BEGIN:DAYLIGHT
TZOFFSETFROM:+0200
TZOFFSETTO:+0300
TZNAME:EEST
DTSTART:20250330T010000
END:DAYLIGHT
BEGIN:STANDARD
TZOFFSETFROM:+0300
TZOFFSETTO:+0200
TZNAME:EET
DTSTART:20251026T010000
END:STANDARD
BEGIN:DAYLIGHT
TZOFFSETFROM:+0200
TZOFFSETTO:+0300
TZNAME:EEST
DTSTART:20260329T010000
END:DAYLIGHT
BEGIN:STANDARD
TZOFFSETFROM:+0300
TZOFFSETTO:+0200
TZNAME:EET
DTSTART:20261025T010000
END:STANDARD
END:VTIMEZONE
BEGIN:VEVENT
DTSTART;TZID=Europe/Helsinki:20260601T080000
DTEND;TZID=Europe/Helsinki:20260606T170000
DTSTAMP:20260421T053653
CREATED:20220526T073903Z
LAST-MODIFIED:20221226T135543Z
UID:1378-1780300800-1780765200@www.metzuda.co.il
SUMMARY:INTERSCHUTZ 2026
DESCRIPTION:תערוכת בטיחות וגהות אש בגרמניה
URL:https://www.metzuda.co.il/event/interschutz/
LOCATION:Germany\, Hannover\, Germany
CATEGORIES:תערוכות בטיחות
END:VEVENT
BEGIN:VEVENT
DTSTART;VALUE=DATE:20260528
DTEND;VALUE=DATE:20260529
DTSTAMP:20260421T053653
CREATED:20260406T083955Z
LAST-MODIFIED:20260406T084002Z
UID:37450-1779926400-1780012799@www.metzuda.co.il
SUMMARY:Nextech Warsaw 2026
DESCRIPTION:
URL:https://www.metzuda.co.il/event/nextech-warsaw-2026/
LOCATION:POLAND\, VARSHA\, Poland
END:VEVENT
BEGIN:VEVENT
DTSTART;VALUE=DATE:20260527
DTEND;VALUE=DATE:20260529
DTSTAMP:20260421T053653
CREATED:20260107T100544Z
LAST-MODIFIED:20260107T100544Z
UID:35758-1779840000-1780012799@www.metzuda.co.il
SUMMARY:CANSEC  2026
DESCRIPTION:
URL:https://www.metzuda.co.il/event/cansec-2026/
LOCATION:EY Centre\, OTTAWA\, Canada
END:VEVENT
BEGIN:VEVENT
DTSTART;VALUE=DATE:20260513
DTEND;VALUE=DATE:20260514
DTSTAMP:20260421T053653
CREATED:20260107T095503Z
LAST-MODIFIED:20260107T095824Z
UID:35752-1778630400-1778716799@www.metzuda.co.il
SUMMARY:אבטחה בתערוכת TWENTY 26 בגלזגו
DESCRIPTION:
URL:https://www.metzuda.co.il/event/%d7%90%d7%91%d7%98%d7%97%d7%94-%d7%91%d7%aa%d7%a2%d7%a8%d7%95%d7%9b%d7%aa-twenty-26-%d7%91%d7%92%d7%9c%d7%96%d7%92%d7%95/
LOCATION:Glasgow\, United Kingdom
END:VEVENT
BEGIN:VEVENT
DTSTART;VALUE=DATE:20260512
DTEND;VALUE=DATE:20260514
DTSTAMP:20260421T053653
CREATED:20260107T095202Z
LAST-MODIFIED:20260107T095202Z
UID:35749-1778544000-1778716799@www.metzuda.co.il
SUMMARY:תערוכת בטיחות חירום והצלה 2026
DESCRIPTION:
URL:https://www.metzuda.co.il/event/%d7%aa%d7%a2%d7%a8%d7%95%d7%9b%d7%aa-%d7%91%d7%98%d7%99%d7%97%d7%95%d7%aa-%d7%97%d7%99%d7%a8%d7%95%d7%9d-%d7%95%d7%94%d7%a6%d7%9c%d7%94-2026/
LOCATION:Expo Tel Aviv\, 101 Rokach Blvd\, Tel aviv\, Israel
END:VEVENT
BEGIN:VEVENT
DTSTART;VALUE=DATE:20260505
DTEND;VALUE=DATE:20260507
DTSTAMP:20260421T053653
CREATED:20260114T081810Z
LAST-MODIFIED:20260114T082202Z
UID:35897-1777939200-1778111999@www.metzuda.co.il
SUMMARY:BORDER SECURITY EXPO
DESCRIPTION:
URL:https://www.metzuda.co.il/event/border-security-expo/
LOCATION:Arizona State Fair\, Phoenix\, USA\, Arizona\, United States
END:VEVENT
BEGIN:VEVENT
DTSTART;VALUE=DATE:20260428
DTEND;VALUE=DATE:20260501
DTSTAMP:20260421T053653
CREATED:20260107T093548Z
LAST-MODIFIED:20260107T094125Z
UID:35739-1777334400-1777593599@www.metzuda.co.il
SUMMARY:firesafetyevent.
DESCRIPTION:
URL:https://www.metzuda.co.il/event/35739/
LOCATION:BERMINGHAM\, United Kingdom
END:VEVENT
BEGIN:VEVENT
DTSTART;VALUE=DATE:20260414
DTEND;VALUE=DATE:20260417
DTSTAMP:20260421T053653
CREATED:20260128T065112Z
LAST-MODIFIED:20260128T065112Z
UID:36297-1776124800-1776383999@www.metzuda.co.il
SUMMARY:LAAD Security & Defence\, סאו פאולו ברזיל
DESCRIPTION:שלום רב\, \nאנו מזמינים אתכם להשתתף בתערוכת LAAD Security & Defence\, האירוע המרכזי באמריקה הלטינית לתחומי הביטחון הציבורי והביטחון הארגוני\, אשר תתקיים בין התאריכים 14-16 באפריל 2026 בעיר סאו פאולו\, ברזיל. \n  \nלמה כדאי להשתתף? \n\nבתערוכה הקודמת שנערכה ב 2024 הציגו 84 חברות מ-12 מדינות – ששהם הם הציגו פתרונות וטכנולוגיות מתקדמות בתחום הביטחון\, ההגנה והביטחון הציבורי.\nבתערוכה ביקרו כ- 15\,500 מבקרים מקצועיים – הכולל קהל יעד איכותי מקבלי החלטות\, בכירים וגורמי ממשל.\n69 משלחות רשמיות מ-36 מדינות הגיעו לתערוכה הקודמת–משלחות אלו מזמנות הזדמנות ליצירת קשרים עסקיים ופתיחת שווקים בינלאומיים.\n\nלמי מתאימה התערוכה? \nהתערוכה מיועדת לחברות בתחומי אבטחת מידע וסייבר\, ציוד טקטי ומשטרתי\, ביטחון עירוני ותחבורתי\, אבטחת מתקנים ותשתיות קריטיות\, שירותי ייעוץ והדרכה\, וכן חברות טכנולוגיה וסטארט-אפים המציעים פתרונות חדשניים בתחומי AI\, רובוטיקה וחיישנים מתקדמים. \n  \nמה מחכה לכם בתערוכה: \n\nאזור חדשנות טכנולוגית– הצצה לעתיד הביטחון עם טכנולוגיות פורצות דרך.\nמפגשי נטוורקינג איכותיים– מפגשים בין מקבלי ההחלטות לחברות עצמם.\nתוכנית תוכן מקצועית– פאנלים\, הרצאות וסמינרים בנושאים העדכניים ביותר בתעשייה.\n\nאל תחמיצו את ההזדמנות לקחת חלק באירוע המרכזי של תעשיית הביטחון באמריקה הלטינית. \nלמידע נוסף והרשמה:\nhttps://laadexpo.com.br/security/en/why-expose/#expositor \n  \nמחירון התערוכה : 
URL:https://www.metzuda.co.il/event/laad-security-defence-%d7%a1%d7%90%d7%95-%d7%a4%d7%90%d7%95%d7%9c%d7%95-%d7%91%d7%a8%d7%96%d7%99%d7%9c/
LOCATION:BRAZIL\, Brazil
END:VEVENT
BEGIN:VEVENT
DTSTART;VALUE=DATE:20260414
DTEND;VALUE=DATE:20260417
DTSTAMP:20260421T053653
CREATED:20260114T081339Z
LAST-MODIFIED:20260114T081339Z
UID:35893-1776124800-1776383999@www.metzuda.co.il
SUMMARY:הקונגרס העולמי לביטחון גבולות
DESCRIPTION:
URL:https://www.metzuda.co.il/event/%d7%94%d7%a7%d7%95%d7%a0%d7%92%d7%a8%d7%a1-%d7%94%d7%a2%d7%95%d7%9c%d7%9e%d7%99-%d7%9c%d7%91%d7%99%d7%98%d7%97%d7%95%d7%9f-%d7%92%d7%91%d7%95%d7%9c%d7%95%d7%aa/
LOCATION:vina\, Austria
END:VEVENT
BEGIN:VEVENT
DTSTART;VALUE=DATE:20260414
DTEND;VALUE=DATE:20260417
DTSTAMP:20260421T053653
CREATED:20260107T093001Z
LAST-MODIFIED:20260107T093001Z
UID:35734-1776124800-1776383999@www.metzuda.co.il
SUMMARY:ITEC UK
DESCRIPTION:
URL:https://www.metzuda.co.il/event/itec-uk/
LOCATION:london\, United Kingdom
END:VEVENT
BEGIN:VEVENT
DTSTART;VALUE=DATE:20260401
DTEND;VALUE=DATE:20260403
DTSTAMP:20260421T053653
CREATED:20260114T092341Z
LAST-MODIFIED:20260114T092341Z
UID:35905-1775001600-1775174399@www.metzuda.co.il
SUMMARY:פסגת ביטחון גבולות ומודיעין
DESCRIPTION:
URL:https://www.metzuda.co.il/event/%d7%a4%d7%a1%d7%92%d7%aa-%d7%91%d7%99%d7%98%d7%97%d7%95%d7%9f-%d7%92%d7%91%d7%95%d7%9c%d7%95%d7%aa-%d7%95%d7%9e%d7%95%d7%93%d7%99%d7%a2%d7%99%d7%9f/
LOCATION:Washington\, Bellevue - Meydenbauer Center\, Washington\, USA\, Washington\, United States
END:VEVENT
BEGIN:VEVENT
DTSTART;VALUE=DATE:20260401
DTEND;VALUE=DATE:20260402
DTSTAMP:20260421T053653
CREATED:20260107T090849Z
LAST-MODIFIED:20260107T090849Z
UID:35727-1775001600-1775087999@www.metzuda.co.il
SUMMARY:CYBERX QATAR
DESCRIPTION:
URL:https://www.metzuda.co.il/event/cyberx-qatar/
LOCATION:QATAR\, Qatar
CATEGORIES:כנסי אבטחה ובטיחות
END:VEVENT
BEGIN:VEVENT
DTSTART;VALUE=DATE:20260325
DTEND;VALUE=DATE:20260326
DTSTAMP:20260421T053653
CREATED:20260205T080111Z
LAST-MODIFIED:20260205T080322Z
UID:36523-1774396800-1774483199@www.metzuda.co.il
SUMMARY:NFPLIL הכנס השנתי של העמותה למיגון מפני אש
DESCRIPTION:
URL:https://www.metzuda.co.il/event/nfplil-%d7%94%d7%9b%d7%a0%d7%a1-%d7%94%d7%a9%d7%a0%d7%aa%d7%99-%d7%a9%d7%9c-%d7%94%d7%a2%d7%9e%d7%95%d7%aa%d7%94-%d7%9c%d7%9e%d7%99%d7%92%d7%95%d7%9f-%d7%9e%d7%a4%d7%a0%d7%99-%d7%90%d7%a9/
LOCATION:אוניברסיטת תל אביב  אולם סמולרש\, תל אביב\, Israel
CATEGORIES:כנסי אבטחה ובטיחות,תערוכות בטיחות אש
END:VEVENT
BEGIN:VEVENT
DTSTART;VALUE=DATE:20260224
DTEND;VALUE=DATE:20260225
DTSTAMP:20260421T053653
CREATED:20260114T101116Z
LAST-MODIFIED:20260114T101116Z
UID:35910-1771891200-1771977599@www.metzuda.co.il
SUMMARY:BORDER TECHNOLOGY SUMMIT
DESCRIPTION:
URL:https://www.metzuda.co.il/event/border-technology-summit-2/
LOCATION:KANVARA
END:VEVENT
BEGIN:VEVENT
DTSTART;VALUE=DATE:20260217
DTEND;VALUE=DATE:20260219
DTSTAMP:20260421T053653
CREATED:20260202T093332Z
LAST-MODIFIED:20260202T093332Z
UID:36440-1771286400-1771459199@www.metzuda.co.il
SUMMARY:תערוכת DEFENSE.TECH
DESCRIPTION:
URL:https://www.metzuda.co.il/event/%d7%aa%d7%a2%d7%a8%d7%95%d7%9b%d7%aa-defense-tech/
LOCATION:Expo Tel Aviv\, 101 Rokach Blvd\, Tel aviv\, Israel
END:VEVENT
BEGIN:VEVENT
DTSTART;VALUE=DATE:20260212
DTEND;VALUE=DATE:20260213
DTSTAMP:20260421T053653
CREATED:20260107T090217Z
LAST-MODIFIED:20260107T090456Z
UID:35725-1770854400-1770940799@www.metzuda.co.il
SUMMARY:תערוכת אבטחה TWENTY 26  דבלין
DESCRIPTION:האירוע האירופי הראשון שלנו השנה:\nSecurity Twenty 26 בדבלין
URL:https://www.metzuda.co.il/event/%d7%aa%d7%a2%d7%a8%d7%95%d7%9b%d7%aa-%d7%90%d7%91%d7%98%d7%97%d7%94-twenty-26-%d7%93%d7%91%d7%9c%d7%99%d7%9f/
LOCATION:Dublin\, Ireland
END:VEVENT
BEGIN:VEVENT
DTSTART;VALUE=DATE:20260210
DTEND;VALUE=DATE:20260211
DTSTAMP:20260421T053653
CREATED:20260107T085751Z
LAST-MODIFIED:20260107T085751Z
UID:35722-1770681600-1770767999@www.metzuda.co.il
SUMMARY:תערוכת אבטחה TWENTY 26  בלפסט
DESCRIPTION:התחלה נהדרת לשנה החדשה:\nאבטחה TWENTY 26 בבלפסט
URL:https://www.metzuda.co.il/event/%d7%aa%d7%a2%d7%a8%d7%95%d7%9b%d7%aa-%d7%90%d7%91%d7%98%d7%97%d7%94-twenty-26-%d7%91%d7%9c%d7%a4%d7%a1%d7%98/
LOCATION:BELFAST\, Ireland
END:VEVENT
BEGIN:VEVENT
DTSTART;VALUE=DATE:20260126
DTEND;VALUE=DATE:20260129
DTSTAMP:20260421T053653
CREATED:20260107T091414Z
LAST-MODIFIED:20260107T091414Z
UID:35731-1769385600-1769644799@www.metzuda.co.il
SUMMARY:Cybertech Global TLV 2025
DESCRIPTION:תערוכת אבטחת מידע וסייבר תל אביב ישראל 2026
URL:https://www.metzuda.co.il/event/cybertech-global-tlv-2025-2/
LOCATION:Expo Tel Aviv\, 101 Rokach Blvd\, Tel aviv\, Israel
END:VEVENT
BEGIN:VEVENT
DTSTART;VALUE=DATE:20260120
DTEND;VALUE=DATE:20260124
DTSTAMP:20260421T053653
CREATED:20260107T084521Z
LAST-MODIFIED:20260107T084521Z
UID:35720-1768867200-1769212799@www.metzuda.co.il
SUMMARY:SHOT SHOW
DESCRIPTION:
URL:https://www.metzuda.co.il/event/shot-show/
LOCATION:Venetian Expo + Caesars Forum • Las Vegas\, Las Vegas\, United States
END:VEVENT
BEGIN:VEVENT
DTSTART;VALUE=DATE:20260112
DTEND;VALUE=DATE:20260115
DTSTAMP:20260421T053653
CREATED:20260107T083947Z
LAST-MODIFIED:20260107T083947Z
UID:35717-1768176000-1768435199@www.metzuda.co.il
SUMMARY:תערוכת INTERSEC. בדובאי
DESCRIPTION:המהדורה ה-27 של Intersec חוזרת בין ה-12 ל-14 בינואר 2026 במרכז הסחר העולמי בדובאי – הממוקם במשותף עם Light + Intelligent Building Middle East.\n\n\n\n\n\n\n\nPlay Video\n\n\nבמשך יותר משני עשורים\, Intersec הייתה סיפור הצלחה\, המציע פוטנציאל צמיחה למציגים ולמבקרים\, שכן חדשנות בכל המגזרים שלנו ממשיכה להתמודד עם רמות חדשות של איום וסיכון. זה הופך את זה לחשוב יותר מתמיד שאנשי התחום האחראים על שמירה על ביטחון\, בטיחות לאומיים ובינלאומיים ומתן הגנה מפני אש מתקדמת ייפגשו וידונו באסטרטגיות ובפתרונות. \nמפגש ענק זה הוא כנס של מנהיגים\, קובעי מדיניות\, חממות השקעות\, שותפים תאגידיים וסטארט-אפים ברמה עולמית\, כולם פועלים למען עתיד בטוח יותר. \nצרו קשר עם  צוות Intersec  לקבלת מידע נוסף על תערוכה. \nאנחנו כבר מצפים לקבל את פניכם בשנת 2026.
URL:https://www.metzuda.co.il/event/%d7%aa%d7%a2%d7%a8%d7%95%d7%9b%d7%aa-intersec-%d7%91%d7%93%d7%95%d7%91%d7%90%d7%99-2/
LOCATION:DUBAI
END:VEVENT
BEGIN:VEVENT
DTSTART;VALUE=DATE:20251112
DTEND;VALUE=DATE:20251113
DTSTAMP:20260421T053653
CREATED:20251016T094606Z
LAST-MODIFIED:20251016T095009Z
UID:33613-1762905600-1762991999@www.metzuda.co.il
SUMMARY:תערוכת האבטחה של ישראל
DESCRIPTION:
URL:https://www.metzuda.co.il/event/%d7%aa%d7%a2%d7%a8%d7%95%d7%9b%d7%aa-%d7%94%d7%90%d7%91%d7%98%d7%97%d7%94-%d7%a9%d7%9c-%d7%99%d7%a9%d7%a8%d7%90%d7%9c/
LOCATION:Expo Tel Aviv\, 101 Rokach Blvd\, Tel aviv\, Israel
CATEGORIES:תערוכות בטחון,תערוכות טכנולוגיות,תערוכות טכנולוגיות בתחום האבטחה ומתח נמוך
END:VEVENT
BEGIN:VEVENT
DTSTART;VALUE=DATE:20251112
DTEND;VALUE=DATE:20251113
DTSTAMP:20260421T053653
CREATED:20241118T100027Z
LAST-MODIFIED:20251016T094225Z
UID:19233-1762905600-1762991999@www.metzuda.co.il
SUMMARY:כנס האבטחה של ישראל 2025
DESCRIPTION:
URL:https://www.metzuda.co.il/event/%d7%9b%d7%a0%d7%a1-%d7%94%d7%90%d7%91%d7%98%d7%97%d7%94-%d7%a9%d7%9c-%d7%99%d7%a9%d7%a8%d7%90%d7%9c-2025/
LOCATION:Expo Tel Aviv\, 101 Rokach Blvd\, Tel aviv\, Israel
CATEGORIES:כנסי אבטחה ובטיחות
END:VEVENT
BEGIN:VEVENT
DTSTART;VALUE=DATE:20251106
DTEND;VALUE=DATE:20251107
DTSTAMP:20260421T053653
CREATED:20250107T093137Z
LAST-MODIFIED:20250107T093137Z
UID:21314-1762387200-1762473599@www.metzuda.co.il
SUMMARY:ST25 לונדון
DESCRIPTION:ב-6 בנובמבר 2025 נארח את האבטחה TWENTY 25 בלונדון ב- Radisson Red  בלונדון הית'רו. \nדלתות ייפתחו למבקרים בתערוכה הגדולה שלנו או למוצרי אבטחה ושירותי אבטחה בשעה 9:30 בבוקר עם בוטי בייקון שיוגשו למשכימי קום. מזנון ארוחת צהריים חינם יוגש בצהריים וכיבוד זמין לאורך כל היום. הדלתות נסגרות בשעה 15:00.  \nהכי חשוב אם תירשם מראש תוכל להשתתף באירוע  בחינם. אנו מקווים שתצליחו להצטרף אלינו!  \nבערב ה-5 בנובמבר\, נארגן מסיבת טרום אירועים עם ארוחת ערב במלון וקצת בידור מטורף! שחרר את אל הרוק הפנימי שלך ושיר יחד עם הלהקה החיה שלנו ל'בנדיוקי'. נגיש אוכל רחוב טעים וגם בר חופשי יהיה בחלק מהערב. נשמע לנו כמו ערב נהדר! צור קשר עם ליז לויד לגבי הזמנת מקומות לארוחת ערב\, לינה וארוחת בוקר והזדמנויות זמינות למתן חסות והצגת מציגים. liz@professionalsecurity.co.uk  או טלפון: +44 (0)7970271786
URL:https://www.metzuda.co.il/event/st25-%d7%9c%d7%95%d7%a0%d7%93%d7%95%d7%9f/
LOCATION:london\, United Kingdom
CATEGORIES:כנסי אבטחה ובטיחות
END:VEVENT
BEGIN:VEVENT
DTSTART;VALUE=DATE:20250909
DTEND;VALUE=DATE:20250913
DTSTAMP:20260421T053653
CREATED:20250311T091634Z
LAST-MODIFIED:20250311T092150Z
UID:26168-1757376000-1757721599@www.metzuda.co.il
SUMMARY:DSEI לונדון
DESCRIPTION:
URL:https://www.metzuda.co.il/event/dsei-%d7%9c%d7%95%d7%a0%d7%93%d7%95%d7%9f/
LOCATION:לונדון
CATEGORIES:תערוכות בטחון
END:VEVENT
BEGIN:VEVENT
DTSTART;VALUE=DATE:20250904
DTEND;VALUE=DATE:20250905
DTSTAMP:20260421T053653
CREATED:20250107T092851Z
LAST-MODIFIED:20250107T092911Z
UID:21309-1756944000-1757030399@www.metzuda.co.il
SUMMARY:ST25 ברמינגהאם
DESCRIPTION:Professional Security Magazine  שמח להביא לכם את תערוכת Security Twenty 25 Birmingham ב -4 בספטמבר 2025 . אירוע זה מיועד לכל מי שמתעניין באבטחה ויעדכן את המשתתפים בהתפתחויות האחרונות בתחום האבטחה.   \nשוכן במיקום נוח של  אצטדיון הקריקט Edgbaston בבירמינגהם \, תערוכת הכביש של Security TWENTY 25 Birmingham תפגיש תערוכות של מוצרי ושירותי אבטחה מתקדמים יחד עם הזדמנויות נהדרות לרשת.
URL:https://www.metzuda.co.il/event/st25-%d7%91%d7%a8%d7%9e%d7%99%d7%a0%d7%92%d7%94%d7%90%d7%9d/
LOCATION:Birmingham\, United Kingdom
CATEGORIES:כנסי אבטחה ובטיחות
END:VEVENT
BEGIN:VEVENT
DTSTART;TZID=Europe/Helsinki:20250902T080000
DTEND;TZID=Europe/Helsinki:20250904T170000
DTSTAMP:20260421T053653
CREATED:20250107T090042Z
LAST-MODIFIED:20250107T090042Z
UID:21286-1756800000-1757005200@www.metzuda.co.il
SUMMARY:ISC ברזיל 2025
DESCRIPTION:חיבור תוכן איכותי לחוויות אסטרטגיות ליצירת רשתות ויצירת עסקים\, ISC Brasil מתגלה כאירוע הארגוני המרכזי למפגש מנהלים\, מקבלי החלטות ומומחים ממגזר האבטחה המשולבת והאבטחה האלקטרונית בברזיל. \nעם תכנית מלאה בתכנים טכניים וניהוליים \, הצגת חידושים ומגמות שוק בתערוכה באמצעות המותגים המרכזיים בסגמנט .
URL:https://www.metzuda.co.il/event/isc-%d7%91%d7%a8%d7%96%d7%99%d7%9c-2025/
LOCATION:סאו פאולו ברזיל\, Brazil
CATEGORIES:כנסי אבטחה ובטיחות,תערוכות בטחון,תערוכות טכנולוגיות
END:VEVENT
BEGIN:VEVENT
DTSTART;VALUE=DATE:20250731
DTEND;VALUE=DATE:20250802
DTSTAMP:20260421T053653
CREATED:20250107T085359Z
LAST-MODIFIED:20250107T085359Z
UID:21282-1753920000-1754092799@www.metzuda.co.il
SUMMARY:HOMELAND SECURITY INDIA 2025
DESCRIPTION:תערוכת ביטחון המולדת של הודו
URL:https://www.metzuda.co.il/event/homeland-security-india-2025/
LOCATION:New Delhi India\, India
CATEGORIES:כנסי אבטחה ובטיחות,תערוכות בטיחות
END:VEVENT
BEGIN:VEVENT
DTSTART;TZID=Europe/Helsinki:20250715T080000
DTEND;TZID=Europe/Helsinki:20250717T170000
DTSTAMP:20260421T053653
CREATED:20250106T120607Z
LAST-MODIFIED:20250106T120657Z
UID:21178-1752566400-1752771600@www.metzuda.co.il
SUMMARY:BUILD 4 ASIS 2025
DESCRIPTION:תצוגת הטכנולוגיה החדשנית של אסיה עבור \n\n\n\n\nתעשיות בניין\, הנדסת חשמל ואבטחה
URL:https://www.metzuda.co.il/event/build-4-asis-2025/
LOCATION:ASIAWORLD-EXPO הונג קונג\, הונג קונג
END:VEVENT
BEGIN:VEVENT
DTSTART;TZID=Europe/Helsinki:20250701T080000
DTEND;TZID=Europe/Helsinki:20250701T170000
DTSTAMP:20260421T053653
CREATED:20250107T092633Z
LAST-MODIFIED:20250107T092633Z
UID:21306-1751356800-1751389200@www.metzuda.co.il
SUMMARY:ST25 מנצ'סטר
DESCRIPTION:Professional Security Magazine  שמח להביא לכם את תערוכת Security Twenty 25 מנצ'סטר ב-1 ביולי 2025 . אירוע זה מיועד לכל מי שמתעניין באבטחה ויעדכן את המשתתפים בהתפתחויות האחרונות בתחום האבטחה.   \nשוכן במיקום נוח של  אצטדיון הכדורגל אולד טראפורד במנצ'סטר \, תערוכת הדרכים של Security TWENTY 25 מנצ'סטר תפגיש תערוכות של מוצרי ושירותי אבטחה מתקדמים יחד עם הזדמנויות נהדרות לרשת.
URL:https://www.metzuda.co.il/event/st25-%d7%9e%d7%a0%d7%a6%d7%a1%d7%98%d7%a8/
LOCATION:מנצ'סטר\, United Kingdom
END:VEVENT
BEGIN:VEVENT
DTSTART;TZID=Europe/Helsinki:20250603T080000
DTEND;TZID=Europe/Helsinki:20250605T170000
DTSTAMP:20260421T053653
CREATED:20250106T112227Z
LAST-MODIFIED:20250106T112359Z
UID:21167-1748937600-1749142800@www.metzuda.co.il
SUMMARY:SECUREX  2025
DESCRIPTION:תערוכת האבטחה והאש המובילה באפריקה
URL:https://www.metzuda.co.il/event/securex-2025/
LOCATION:יוהנסבורג אקספו\, JOHANESBURG\, South Africa
CATEGORIES:כנסי אבטחה ובטיחות,תערוכות בטיחות אש
END:VEVENT
END:VCALENDAR