BEGIN:VCALENDAR
VERSION:2.0
PRODID:-//פורטל מצודה - ECPv5.14.2.1//NONSGML v1.0//EN
CALSCALE:GREGORIAN
METHOD:PUBLISH
X-ORIGINAL-URL:https://www.metzuda.co.il
X-WR-CALDESC:Events for פורטל מצודה
REFRESH-INTERVAL;VALUE=DURATION:PT1H
X-Robots-Tag:noindex
X-PUBLISHED-TTL:PT1H
BEGIN:VTIMEZONE
TZID:Europe/Helsinki
BEGIN:DAYLIGHT
TZOFFSETFROM:+0200
TZOFFSETTO:+0300
TZNAME:EEST
DTSTART:20230326T010000
END:DAYLIGHT
BEGIN:STANDARD
TZOFFSETFROM:+0300
TZOFFSETTO:+0200
TZNAME:EET
DTSTART:20231029T010000
END:STANDARD
BEGIN:DAYLIGHT
TZOFFSETFROM:+0200
TZOFFSETTO:+0300
TZNAME:EEST
DTSTART:20240331T010000
END:DAYLIGHT
BEGIN:STANDARD
TZOFFSETFROM:+0300
TZOFFSETTO:+0200
TZNAME:EET
DTSTART:20241027T010000
END:STANDARD
END:VTIMEZONE
BEGIN:VEVENT
DTSTART;TZID=Europe/Helsinki:20240528T090000
DTEND;TZID=Europe/Helsinki:20240530T160000
DTSTAMP:20260421T072100
CREATED:20220524T122032Z
LAST-MODIFIED:20230702T074331Z
UID:1335-1716886800-1717084800@www.metzuda.co.il
SUMMARY:IFSEC SOUTH AFRICA 2024
DESCRIPTION:For 2024\, Africa’s leading security and fire expo\, Securex South Africa\, will once again bring together more than 160 quality exhibitors with thousands of the continent’s security and fire protection professionals across both public and private sectors \n  \n 
URL:https://www.metzuda.co.il/event/ifsec-south-africa-2024/
LOCATION:Venue: Gallagher Convention Centre\, South Africa
CATEGORIES:תערוכות בטחון
END:VEVENT
BEGIN:VEVENT
DTSTART;TZID=Europe/Helsinki:20240522T080000
DTEND;TZID=Europe/Helsinki:20240523T170000
DTSTAMP:20260421T072100
CREATED:20240517T113618Z
LAST-MODIFIED:20240517T113618Z
UID:12711-1716364800-1716483600@www.metzuda.co.il
SUMMARY:תערוכת ענן ואבטחת סייבר
DESCRIPTION:https://cloudcybersecurityexpo.se/ להזמנת כרטיסים
URL:https://www.metzuda.co.il/event/%d7%aa%d7%a2%d7%a8%d7%95%d7%9b%d7%aa-%d7%a2%d7%a0%d7%9f-%d7%95%d7%90%d7%91%d7%98%d7%97%d7%aa-%d7%a1%d7%99%d7%99%d7%91%d7%a8/
LOCATION:שטוקהולם\, Sweden
END:VEVENT
BEGIN:VEVENT
DTSTART;TZID=Europe/Helsinki:20240521T080000
DTEND;TZID=Europe/Helsinki:20240523T170000
DTSTAMP:20260421T072100
CREATED:20220529T070623Z
LAST-MODIFIED:20230102T083040Z
UID:1399-1716278400-1716483600@www.metzuda.co.il
SUMMARY:ISNR אבו דאבי 2024
DESCRIPTION:התערוכה הבינלאומית לביטחון לאומי וחוסן שבאיחוד האמירויות
URL:https://www.metzuda.co.il/event/isnr-%d7%90%d7%91%d7%95-%d7%93%d7%90%d7%91%d7%99-2022/
LOCATION:ADNEC\, Abu Dhabi\, Abu Dhabi\, United Arab Emirates
CATEGORIES:תערוכות בטחון
END:VEVENT
BEGIN:VEVENT
DTSTART;TZID=Europe/Helsinki:20240508T090000
DTEND;TZID=Europe/Helsinki:20240509T170000
DTSTAMP:20260421T072100
CREATED:20220606T120744Z
LAST-MODIFIED:20230524T111850Z
UID:1603-1715158800-1715274000@www.metzuda.co.il
SUMMARY:UK Cyber Week
DESCRIPTION:תערוכת הסייבר בבריטניה
URL:https://www.metzuda.co.il/event/uk-cyber-week/
LOCATION:The Business Design Centre\, London\, London\, United Kingdom
CATEGORIES:תערוכות סייבר
END:VEVENT
BEGIN:VEVENT
DTSTART;TZID=Europe/Helsinki:20240508T080000
DTEND;TZID=Europe/Helsinki:20240510T170000
DTSTAMP:20260421T072100
CREATED:20220523T125634Z
LAST-MODIFIED:20230524T113446Z
UID:1310-1715155200-1715360400@www.metzuda.co.il
SUMMARY:BUILD4ASIA
DESCRIPTION:Build4Asia is the No.1 Trade show for the Building\, Electrical Engineering and Security Industries in Hong Kong which covers every facet of the construction industry from building materials and automation\, smart city technologies to total surveillance system. \nBuild4Asia will return from 08-10/05  2024 at Hong Kong Convention & Exhibition Centre. The trade show will remain as the ultimate B2B sourcing platform for companies to seek and expand their business opportunities. We strive to provide a comfortable and secure environment for you to source for the right gears throughout the 3-day show. Our events run in accordance with the AllSecure Standard\, with a commitment to 10 key priorities
URL:https://www.metzuda.co.il/event/build4asia/
LOCATION:China\, Hong Kong\, China
CATEGORIES:תערוכות בטחון
ORGANIZER;CN="informa%20exhibitions":MAILTO:headoffice@informa.com
END:VEVENT
BEGIN:VEVENT
DTSTART;TZID=Europe/Helsinki:20240507T080000
DTEND;TZID=Europe/Helsinki:20240509T170000
DTSTAMP:20260421T072100
CREATED:20220602T130725Z
LAST-MODIFIED:20230706T074041Z
UID:1575-1715068800-1715274000@www.metzuda.co.il
SUMMARY:Securex West Africa 2024
DESCRIPTION:תערוכה וכנס בתחום האבטחה האש הבטיחות והסייבר בלאגוס נגריה
URL:https://www.metzuda.co.il/event/securex-west-africa-2022/
LOCATION:Landmark Centre\, Lagos\, Nigeria\, Lagos\, Nigeria
CATEGORIES:תערוכות בטחון,תערוכות בטיחות,תערוכות בטיחות אש,תערוכות סייבר
END:VEVENT
BEGIN:VEVENT
DTSTART;TZID=Europe/Helsinki:20240503T080000
DTEND;TZID=Europe/Helsinki:20240503T170000
DTSTAMP:20260421T072100
CREATED:20230410T100926Z
LAST-MODIFIED:20230410T100926Z
UID:4891-1714723200-1714755600@www.metzuda.co.il
SUMMARY:GLOBAL SECURITY ASIA 2024
DESCRIPTION:תערוכה בינלאומית וכנס בנושא לוחמה בטרור וביטחון בסינגפור
URL:https://www.metzuda.co.il/event/global-security-asia-2024/
LOCATION:Marina Bay Sands\, Singapore
CATEGORIES:תערוכות בטחון
END:VEVENT
BEGIN:VEVENT
DTSTART;TZID=Europe/Helsinki:20240430T080000
DTEND;TZID=Europe/Helsinki:20240504T170000
DTSTAMP:20260421T072100
CREATED:20230410T104320Z
LAST-MODIFIED:20230524T113050Z
UID:4902-1714464000-1714842000@www.metzuda.co.il
SUMMARY:The Fire Safety Event 2024
DESCRIPTION:אירוע בטיחות אש 2024
URL:https://www.metzuda.co.il/event/the-fire-safety-event-2023/
LOCATION:National Exhibition Centre (NEC)\, Birmingham\, United Kingdom (UK)\, Birmingham\, United Kingdom
CATEGORIES:תערוכות בטיחות אש
END:VEVENT
BEGIN:VEVENT
DTSTART;TZID=Europe/Helsinki:20240423T080000
DTEND;TZID=Europe/Helsinki:20240425T170000
DTSTAMP:20260421T072100
CREATED:20230410T102443Z
LAST-MODIFIED:20230410T104633Z
UID:4898-1713859200-1714064400@www.metzuda.co.il
SUMMARY:SECUREX INTERNATIONAL SECURITY EXHIBITION 2024
DESCRIPTION:תערוכת אבטחה בינלאומית אשר בפולין
URL:https://www.metzuda.co.il/event/securex-international-security-exhibition-2024/
LOCATION:Poznan Congress Center\, Poznan\, Poland
CATEGORIES:תערוכות בטחון
END:VEVENT
BEGIN:VEVENT
DTSTART;TZID=Europe/Helsinki:20240416T080000
DTEND;TZID=Europe/Helsinki:20240418T170000
DTSTAMP:20260421T072100
CREATED:20230410T101416Z
LAST-MODIFIED:20230410T101416Z
UID:4894-1713254400-1713459600@www.metzuda.co.il
SUMMARY:PASSENGER TERMINAL CONFERENCE & EXPO 2024
DESCRIPTION:כנס ותערוכה בינלאומיים לעיצוב\, ניהול\, אבטחה וטכנולוגיה של טרמינלי נוסעים
URL:https://www.metzuda.co.il/event/passenger-terminal-conference-expo-2024/
LOCATION:Frankfurt (Germany)\, Frankfurt\, Germany
CATEGORIES:תערוכות בטחון
END:VEVENT
BEGIN:VEVENT
DTSTART;TZID=Europe/Helsinki:20240319T080000
DTEND;TZID=Europe/Helsinki:20240319T170000
DTSTAMP:20260421T072100
CREATED:20240222T072617Z
LAST-MODIFIED:20240222T072807Z
UID:7753-1710835200-1710867600@www.metzuda.co.il
SUMMARY:NFPAIL הכנס השנתי
DESCRIPTION:רוצים להיות בחזית הידע והחדשנות? אל תחמיצו את הכנס המוביל בתחום! הכנס יהווה זירת מפגש חיונית למומחים ומעורבים בתחום\, המעוניינים להרחיב את הידע ולהישאר מעודכנים בחידושים האחרונים. זהו מפגש חובה לכל מי שעוסק בתחום הבטיחות וההגנה מאש!
URL:https://www.metzuda.co.il/event/nfpail-%d7%94%d7%9b%d7%a0%d7%a1-%d7%94%d7%a9%d7%a0%d7%aa%d7%99/
LOCATION:אוניברסיטת תל אביב  אולם סמולרש\, תל אביב\, Israel
END:VEVENT
BEGIN:VEVENT
DTSTART;TZID=Europe/Helsinki:20240222T080000
DTEND;TZID=Europe/Helsinki:20240222T170000
DTSTAMP:20260421T072100
CREATED:20240219T122008Z
LAST-MODIFIED:20240219T122008Z
UID:7744-1708588800-1708621200@www.metzuda.co.il
SUMMARY:UVID 2024
DESCRIPTION:https://www.uvidtech.com/ \n 
URL:https://www.metzuda.co.il/event/uvid-2024/
LOCATION:Expo Tel Aviv\, 101 Rokach Blvd\, Tel aviv\, Israel
END:VEVENT
BEGIN:VEVENT
DTSTART;TZID=Europe/Helsinki:20240207T083000
DTEND;TZID=Europe/Helsinki:20240207T160000
DTSTAMP:20260421T072100
CREATED:20220530T062208Z
LAST-MODIFIED:20230706T075321Z
UID:1421-1707294600-1707321600@www.metzuda.co.il
SUMMARY:CYBERX SUMMIT 2024
DESCRIPTION:כנס בתחום אבטחת הסייבר שבקטאר
URL:https://www.metzuda.co.il/event/cyberx-summit-2024/
LOCATION:Venue: 5 Star Hotel\, Doha\, Qatar\, Doha\, Qatar
CATEGORIES:תערוכות סייבר
END:VEVENT
BEGIN:VEVENT
DTSTART;TZID=Europe/Helsinki:20240129T080000
DTEND;TZID=Europe/Helsinki:20240131T170000
DTSTAMP:20260421T072100
CREATED:20220721T095850Z
LAST-MODIFIED:20230706T074840Z
UID:1899-1706515200-1706720400@www.metzuda.co.il
SUMMARY:Cybertech Global TLV 2024
DESCRIPTION:תערוכת אבטחת מידע וסייבר תל אביב ישראל 2024
URL:https://www.metzuda.co.il/event/cybertech-global-tlv-2024/
LOCATION:Tel Aviv Expo\, Pavilion #2\, Tel aviv
CATEGORIES:תערוכות סייבר
END:VEVENT
BEGIN:VEVENT
DTSTART;TZID=Europe/Helsinki:20240123T080000
DTEND;TZID=Europe/Helsinki:20240126T170000
DTSTAMP:20260421T072100
CREATED:20220530T080726Z
LAST-MODIFIED:20230709T074533Z
UID:1428-1705996800-1706288400@www.metzuda.co.il
SUMMARY:shot show 2024
DESCRIPTION:תערוכה מסחרית בתחום הנשק והאביזרים הטקטיים בלאס וגאס ארצות הברית
URL:https://www.metzuda.co.il/event/shot-show-2024/
LOCATION:Venetian Expo + Caesars Forum • Las Vegas\, Las Vegas\, United States
CATEGORIES:תערוכות נשק
END:VEVENT
BEGIN:VEVENT
DTSTART;TZID=Europe/Helsinki:20240121T090000
DTEND;TZID=Europe/Helsinki:20240123T170000
DTSTAMP:20260421T072100
CREATED:20220531T071546Z
LAST-MODIFIED:20230926T092956Z
UID:1438-1705827600-1706029200@www.metzuda.co.il
SUMMARY:ANME Trade Show 2024
DESCRIPTION:ANME הוא תערוכת סחר B2B המציעה סחורות מתעשיות הצבא- הצי\, הטקטיות ואכיפת החוק\, קמפינג וחוץ שבלאס וגאס ארצות הברית.
URL:https://www.metzuda.co.il/event/anme-trade-show-2024/
LOCATION:Las Vegas\, USA\, Las Vegas\, United States
END:VEVENT
BEGIN:VEVENT
DTSTART;TZID=Europe/Helsinki:20231207T080000
DTEND;TZID=Europe/Helsinki:20231209T170000
DTSTAMP:20260421T072100
CREATED:20220530T082203Z
LAST-MODIFIED:20230102T133841Z
UID:1432-1701936000-1702141200@www.metzuda.co.il
SUMMARY:IFSEC India 2023
DESCRIPTION:תערוכה וכנס בתחום הביטחון ובטיחות באש שמתקיים בניו דלהי הודו
URL:https://www.metzuda.co.il/event/ifsec-india-2022/
LOCATION:Pragati Maidan\, New Delhi\, India\, New delhi\, India
CATEGORIES:תערוכות בטחון,תערוכות בטיחות אש
END:VEVENT
BEGIN:VEVENT
DTSTART;TZID=Europe/Helsinki:20231116T080000
DTEND;TZID=Europe/Helsinki:20231117T170000
DTSTAMP:20260421T072100
CREATED:20220529T083544Z
LAST-MODIFIED:20230102T091729Z
UID:1407-1700121600-1700240400@www.metzuda.co.il
SUMMARY:NDEM! 2023
DESCRIPTION:תערוכת אסונות טבע וניהול מצבי חירום (NDEM)\, ניו יורק ארצות הברית
URL:https://www.metzuda.co.il/event/ndem-2022/
LOCATION:Javits Center in NYC\, New York\, United States
CATEGORIES:תערוכות חירום
END:VEVENT
BEGIN:VEVENT
DTSTART;TZID=Europe/Helsinki:20231115T080000
DTEND;TZID=Europe/Helsinki:20231117T170000
DTSTAMP:20260421T072100
CREATED:20220601T130640Z
LAST-MODIFIED:20230102T102657Z
UID:1533-1700035200-1700240400@www.metzuda.co.il
SUMMARY:Safety & Security Asia 2023
DESCRIPTION:תערוכת סחר בתחום הביטחון והבטיחות בסינגפור.
URL:https://www.metzuda.co.il/event/safety-security-asia-2022/
LOCATION:Sands Expo and Convention Centre\, Singapore\, Marina Bay Sands\, Singapore
CATEGORIES:תערוכות בטחון,תערוכות בטיחות,תערוכות סחר
END:VEVENT
BEGIN:VEVENT
DTSTART;TZID=Europe/Helsinki:20231114T080000
DTEND;TZID=Europe/Helsinki:20231116T170000
DTSTAMP:20260421T072100
CREATED:20221011T120449Z
LAST-MODIFIED:20230102T091542Z
UID:3140-1699948800-1700154000@www.metzuda.co.il
SUMMARY:ISC EAST
DESCRIPTION:תערוכת ביטחון בניו יורק ארצות הברית
URL:https://www.metzuda.co.il/event/isc-east/
LOCATION:NYC (SIA Education@ISC\, New York City\, United States
CATEGORIES:תערוכות בטחון
END:VEVENT
BEGIN:VEVENT
DTSTART;TZID=Europe/Helsinki:20231108T080000
DTEND;TZID=Europe/Helsinki:20231109T170000
DTSTAMP:20260421T072100
CREATED:20220720T121732Z
LAST-MODIFIED:20230706T080539Z
UID:1802-1699430400-1699549200@www.metzuda.co.il
SUMMARY:CYBERTECH NYC 2023
DESCRIPTION:תערוכת אבטחת מידע וסייבר ניו יורק ארצות הברית.
URL:https://www.metzuda.co.il/event/cybertech-nyc-2023/
LOCATION:New york city\, New York city\, United States
CATEGORIES:תערוכות סייבר
END:VEVENT
BEGIN:VEVENT
DTSTART;TZID=Europe/Helsinki:20231106T080000
DTEND;TZID=Europe/Helsinki:20231109T170000
DTSTAMP:20260421T072100
CREATED:20220531T080009Z
LAST-MODIFIED:20230101T092223Z
UID:1442-1699257600-1699549200@www.metzuda.co.il
SUMMARY:Defense&Security2023
DESCRIPTION:תערוכת הגנה וביטחון בנגקוק תאילנד
URL:https://www.metzuda.co.il/event/defensesecurity2022/
LOCATION:Bangkok\, Thailand\, Bangkok\, Thailand
CATEGORIES:תערוכות בטחון
END:VEVENT
BEGIN:VEVENT
DTSTART;TZID=Europe/Helsinki:20231102T080000
DTEND;TZID=Europe/Helsinki:20231102T170000
DTSTAMP:20260421T072100
CREATED:20221023T163132Z
LAST-MODIFIED:20230706T080016Z
UID:3247-1698912000-1698944400@www.metzuda.co.il
SUMMARY:UVID DRONETECH - THE UNMANNED SYSTEMS EVENT
DESCRIPTION:תערוכת הכלים הבלתי מאוישים באקספו תל אביב 2023
URL:https://www.metzuda.co.il/event/uvid-dronetech-the-unmanned-systems-event/
LOCATION:גני התערוכה אקספו תל אביב יפו\, אקספו גני התערוכה\, תל אביב יפו\, Israel
CATEGORIES:תערוכות טכנולוגיות
END:VEVENT
BEGIN:VEVENT
DTSTART;TZID=Europe/Helsinki:20231031T080000
DTEND;TZID=Europe/Helsinki:20231102T170000
DTSTAMP:20260421T072100
CREATED:20220524T115716Z
LAST-MODIFIED:20230102T083444Z
UID:1327-1698739200-1698944400@www.metzuda.co.il
SUMMARY:FIREX Egypt 2023
DESCRIPTION:תערוכת בטיחות באש 2023 במצרים
URL:https://www.metzuda.co.il/event/firex-egypt-2022/
LOCATION:Egypt\, EIEC | Cairo\, Egypt\, Egypt
CATEGORIES:תערוכות בטיחות
END:VEVENT
BEGIN:VEVENT
DTSTART;TZID=Europe/Helsinki:20231028T080000
DTEND;TZID=Europe/Helsinki:20231029T170000
DTSTAMP:20260421T072100
CREATED:20220704T092755Z
LAST-MODIFIED:20230926T091618Z
UID:1676-1698480000-1698598800@www.metzuda.co.il
SUMMARY:PALMETTO GUN SHOW
DESCRIPTION:תערוכת נשק בפלמטו פלורידה
URL:https://www.metzuda.co.il/event/palmetto-gun-show/
LOCATION:Palmetto\, Florida\, Palmetto\, United States
CATEGORIES:תערוכות נשק
END:VEVENT
BEGIN:VEVENT
DTSTART;TZID=Europe/Helsinki:20231021T080000
DTEND;TZID=Europe/Helsinki:20231022T170000
DTSTAMP:20260421T072100
CREATED:20220718T105126Z
LAST-MODIFIED:20230926T093316Z
UID:1760-1697875200-1697994000@www.metzuda.co.il
SUMMARY:Florida Gun Shows
DESCRIPTION:תערוכת האקדחים של טמפה פלורידה.
URL:https://www.metzuda.co.il/event/florida-gun-shows/
LOCATION:Florida State Fairgrounds\, United States
CATEGORIES:תערוכות נשק
END:VEVENT
BEGIN:VEVENT
DTSTART;TZID=Europe/Helsinki:20231007T080000
DTEND;TZID=Europe/Helsinki:20231008T170000
DTSTAMP:20260421T072100
CREATED:20220704T091613Z
LAST-MODIFIED:20230926T093201Z
UID:1672-1696665600-1696784400@www.metzuda.co.il
SUMMARY:North Florida Gun & Knife Show Tallahassee
DESCRIPTION:אירוע הנשק של פלורידה ארצות הברית 2023
URL:https://www.metzuda.co.il/event/north-florida-gun-knife-show-tallahassee/
LOCATION:Orlando\, Florida\, United States
CATEGORIES:תערוכות נשק
END:VEVENT
BEGIN:VEVENT
DTSTART;TZID=Europe/Helsinki:20231003T080000
DTEND;TZID=Europe/Helsinki:20231005T170000
DTSTAMP:20260421T072100
CREATED:20220526T080509Z
LAST-MODIFIED:20230101T093609Z
UID:1382-1696320000-1696525200@www.metzuda.co.il
SUMMARY:INTERSEC SAUDI ARABIA
DESCRIPTION:תערוכת הביטחון והבטיחות בערב הסעודית
URL:https://www.metzuda.co.il/event/intersec-saudi-arabia/
LOCATION:Saudi Arabia\, Riyadh\, Saudi Arabia
END:VEVENT
BEGIN:VEVENT
DTSTART;TZID=Europe/Helsinki:20231003T080000
DTEND;TZID=Europe/Helsinki:20231004T170000
DTSTAMP:20260421T072100
CREATED:20230524T101507Z
LAST-MODIFIED:20230524T101507Z
UID:5216-1696320000-1696438800@www.metzuda.co.il
SUMMARY:יריד OUTDOOR SPORTS & MORE
DESCRIPTION:היריד הגדול בישראל לפעילות Outdoor אשר התקיים בכל המועד סוכות הקרוב 03-04 לאוקטובר 2023 ביער בן שמן \nהיריד יעסוק בציוד מחנאות\, ספורט אתגרי\, ציוד למטיילים וחיילים\, ביגוד וציוד טקטי\, בישול שטח גרילים ועוד…
URL:https://www.metzuda.co.il/event/%d7%99%d7%a8%d7%99%d7%93-outdoor-sports-more/
LOCATION:יער בן שמן ישראל\, Israel
CATEGORIES:תערוכות סחר
END:VEVENT
BEGIN:VEVENT
DTSTART;TZID=Europe/Helsinki:20230926T080000
DTEND;TZID=Europe/Helsinki:20230927T170000
DTSTAMP:20260421T072100
CREATED:20230112T134906Z
LAST-MODIFIED:20230112T134911Z
UID:4482-1695715200-1695834000@www.metzuda.co.il
SUMMARY:International Security Expo
DESCRIPTION:תערוכת האבטחה הגדולה באירופה אשר מתקיימת בלונדון
URL:https://www.metzuda.co.il/event/international-security-expo-2/
LOCATION:Grand Hall Hammersmith Road\, Kensington\, London\,\, London\, United Kingdom
CATEGORIES:כנסי אבטחה ובטיחות
END:VEVENT
END:VCALENDAR