BEGIN:VCALENDAR
VERSION:2.0
PRODID:-//פורטל מצודה - ECPv5.14.2.1//NONSGML v1.0//EN
CALSCALE:GREGORIAN
METHOD:PUBLISH
X-ORIGINAL-URL:https://www.metzuda.co.il
X-WR-CALDESC:Events for פורטל מצודה
REFRESH-INTERVAL;VALUE=DURATION:PT1H
X-Robots-Tag:noindex
X-PUBLISHED-TTL:PT1H
BEGIN:VTIMEZONE
TZID:Europe/Helsinki
BEGIN:DAYLIGHT
TZOFFSETFROM:+0200
TZOFFSETTO:+0300
TZNAME:EEST
DTSTART:20220327T010000
END:DAYLIGHT
BEGIN:STANDARD
TZOFFSETFROM:+0300
TZOFFSETTO:+0200
TZNAME:EET
DTSTART:20221030T010000
END:STANDARD
BEGIN:DAYLIGHT
TZOFFSETFROM:+0200
TZOFFSETTO:+0300
TZNAME:EEST
DTSTART:20230326T010000
END:DAYLIGHT
BEGIN:STANDARD
TZOFFSETFROM:+0300
TZOFFSETTO:+0200
TZNAME:EET
DTSTART:20231029T010000
END:STANDARD
END:VTIMEZONE
BEGIN:VEVENT
DTSTART;TZID=Europe/Helsinki:20230919T080000
DTEND;TZID=Europe/Helsinki:20230921T170000
DTSTAMP:20260422T025404
CREATED:20220529T064108Z
LAST-MODIFIED:20230101T093835Z
UID:1388-1695110400-1695315600@www.metzuda.co.il
SUMMARY:ISC ברזיל
DESCRIPTION:יריד בינלאומי של פתרונות אבטחה משולבים בברזיל ISC
URL:https://www.metzuda.co.il/event/isc-%d7%91%d7%a8%d7%96%d7%99%d7%9c/
LOCATION:Expo Center Norte  Brazil\, São Paulo\, Brazil
CATEGORIES:תערוכות בטחון
END:VEVENT
BEGIN:VEVENT
DTSTART;TZID=Europe/Helsinki:20230905T080000
DTEND;TZID=Europe/Helsinki:20230908T170000
DTSTAMP:20260422T025404
CREATED:20220607T094754Z
LAST-MODIFIED:20230101T093315Z
UID:1615-1693900800-1694192400@www.metzuda.co.il
SUMMARY:MSPO Expo 2023
DESCRIPTION:תערוכת הציוד הצבאי בקיילצה פולין
URL:https://www.metzuda.co.il/event/mspo-expo-2022/
LOCATION:Targi Kielce\, Kielce\, Poland\, Kielce\, Poland
CATEGORIES:תערוכות נשק
END:VEVENT
BEGIN:VEVENT
DTSTART;TZID=Europe/Helsinki:20230819T080000
DTEND;TZID=Europe/Helsinki:20230820T170000
DTSTAMP:20260422T025404
CREATED:20220712T125048Z
LAST-MODIFIED:20230709T074352Z
UID:1718-1692432000-1692550800@www.metzuda.co.il
SUMMARY:ORLANDO GUN SHOW
DESCRIPTION:תערוכת הנשק של אורלנדו 2023
URL:https://www.metzuda.co.il/event/orlando-gun-show/
LOCATION:Central Florida Fairgrounds\, Orlando\, Florida\, United States
CATEGORIES:תערוכות נשק
END:VEVENT
BEGIN:VEVENT
DTSTART;TZID=Europe/Helsinki:20230807T080000
DTEND;TZID=Europe/Helsinki:20230808T170000
DTSTAMP:20260422T025404
CREATED:20220720T100311Z
LAST-MODIFIED:20221228T132412Z
UID:1794-1691395200-1691514000@www.metzuda.co.il
SUMMARY:Richmond Gun Show
DESCRIPTION:תערוכת נשק ריצ'מונד וירג'יניה ארצות הברית.
URL:https://www.metzuda.co.il/event/richmond-gun-show/
LOCATION:Richmond Raceway\, Richmond\, USA\, Richmond\, United States
CATEGORIES:תערוכות נשק
END:VEVENT
BEGIN:VEVENT
DTSTART;TZID=Europe/Helsinki:20230710T080000
DTEND;TZID=Europe/Helsinki:20230710T170000
DTSTAMP:20260422T025404
CREATED:20220606T083435Z
LAST-MODIFIED:20221227T131939Z
UID:1589-1688976000-1689008400@www.metzuda.co.il
SUMMARY:AUS&R 2023
DESCRIPTION:כנס בנושא מערכות בלתי מאוישות\, רובוטיקה\, וניידות חכמה באקספו תל אביב 2023
URL:https://www.metzuda.co.il/event/ausr-2022/
LOCATION:Expo Tel Aviv Pav. 10\, Tel aviv\, Israel
CATEGORIES:תערוכות טכנולוגיות בתחום האבטחה ומתח נמוך
END:VEVENT
BEGIN:VEVENT
DTSTART;TZID=Europe/Helsinki:20230627T080000
DTEND;TZID=Europe/Helsinki:20230628T170000
DTSTAMP:20260422T025404
CREATED:20220602T085915Z
LAST-MODIFIED:20221227T100546Z
UID:1555-1687852800-1687971600@www.metzuda.co.il
SUMMARY:Police Security Expo 2023
DESCRIPTION:תערוכת המשטרה והביטחון הבינלאומית באטלנטיק סיטי ארצות הברית.  
URL:https://www.metzuda.co.il/event/police-security-expo-2022/
LOCATION:Atlantic City Convention Center\, Atlantic City\, USA\, Atlantic City\, United States
CATEGORIES:תערוכות בטחון
END:VEVENT
BEGIN:VEVENT
DTSTART;TZID=Europe/Helsinki:20230524T080000
DTEND;TZID=Europe/Helsinki:20230526T170000
DTSTAMP:20260422T025404
CREATED:20220606T130449Z
LAST-MODIFIED:20220606T130706Z
UID:1608-1684915200-1685120400@www.metzuda.co.il
SUMMARY:IDET Fair 2023
DESCRIPTION:היריד הבינלאומי לטכנולוגיית הגנה וביטחון ברונו צ'כיה
URL:https://www.metzuda.co.il/event/idet-fair-2023/
LOCATION:Brno Exhibition Centre\, Brno\, Czech Republic\, Brno\, Czech Republic
CATEGORIES:תערוכות נשק
END:VEVENT
BEGIN:VEVENT
DTSTART;TZID=Europe/Helsinki:20230518T080000
DTEND;TZID=Europe/Helsinki:20230520T170000
DTSTAMP:20260422T025404
CREATED:20220529T085441Z
LAST-MODIFIED:20221226T135029Z
UID:1412-1684396800-1684602000@www.metzuda.co.il
SUMMARY:SECURITY & FIRE EXPO 2023
DESCRIPTION:תערוכה בתחום האבטחה והכבאות בהודו
URL:https://www.metzuda.co.il/event/security-fire-expo-2022/
LOCATION:מרכז הסחר של צ'נאי\, הודו\, CHENNAI\, India
CATEGORIES:תערוכות בטחון
END:VEVENT
BEGIN:VEVENT
DTSTART;TZID=Europe/Helsinki:20230516T080000
DTEND;TZID=Europe/Helsinki:20230517T170000
DTSTAMP:20260422T025404
CREATED:20220531T090502Z
LAST-MODIFIED:20230102T091437Z
UID:1446-1684224000-1684342800@www.metzuda.co.il
SUMMARY:DACHsec IT Security Summit 2023
DESCRIPTION:כנס בנושא אבטחת סייבר IT במינכן גרמניה
URL:https://www.metzuda.co.il/event/dachsec-it-security-summit-2022/
LOCATION:Munich\, Germany\, Munich\, Germany
CATEGORIES:תערוכות סייבר
END:VEVENT
BEGIN:VEVENT
DTSTART;TZID=Europe/Helsinki:20230426T080000
DTEND;TZID=Europe/Helsinki:20230428T170000
DTSTAMP:20260422T025404
CREATED:20230410T105716Z
LAST-MODIFIED:20230410T105716Z
UID:4907-1682496000-1682701200@www.metzuda.co.il
SUMMARY:Secutech Taiwan 2023
DESCRIPTION:Secutech טייוואן הוא יריד הסחר המוביל באש\, בטיחות ואלקטרוניקה ביטחונית.
URL:https://www.metzuda.co.il/event/secutech-taiwan-2023/
LOCATION:Taipei Nangang Exhibition Center Hall 2\, Taipei\, Taiwan\, Taipei\, Taiwan
CATEGORIES:תערוכות בטיחות,תערוכות בטיחות אש
END:VEVENT
BEGIN:VEVENT
DTSTART;TZID=Europe/Helsinki:20230421T080000
DTEND;TZID=Europe/Helsinki:20230423T170000
DTSTAMP:20260422T025404
CREATED:20220602T092120Z
LAST-MODIFIED:20220602T092120Z
UID:1560-1682064000-1682269200@www.metzuda.co.il
SUMMARY:HuntEx 2023
DESCRIPTION:תערוכת סחר נשק יוהנסבורג דרום אפריקה.
URL:https://www.metzuda.co.il/event/huntex-2023/
LOCATION:Gallagher Convention Centre\, Johannesburg\, South Africa\, Midrand\, South Africa
CATEGORIES:תערוכות נשק,תערוכות סחר
END:VEVENT
BEGIN:VEVENT
DTSTART;TZID=Europe/Helsinki:20230329T090000
DTEND;TZID=Europe/Helsinki:20230330T180000
DTSTAMP:20260422T025404
CREATED:20220921T152804Z
LAST-MODIFIED:20230102T083821Z
UID:1373-1680080400-1680199200@www.metzuda.co.il
SUMMARY:iHLS INNOTECH 2023
DESCRIPTION:הכנס והתערוכה הבינלאומית לסייבר HLS וחדשנות בתל אביב
URL:https://www.metzuda.co.il/event/ihls-innotech-2022/
LOCATION:Expo Tel Aviv\, 101 Rokach Blvd\, Tel aviv\, Israel
CATEGORIES:תערוכות סייבר
END:VEVENT
BEGIN:VEVENT
DTSTART;TZID=Europe/Helsinki:20230321T180000
DTEND;TZID=Europe/Helsinki:20230323T160000
DTSTAMP:20260422T025404
CREATED:20220523T123546Z
LAST-MODIFIED:20221226T133124Z
UID:1303-1679421600-1679587200@www.metzuda.co.il
SUMMARY:ASIS EUROPE
DESCRIPTION:  \nIn 2023 we will bring these elements closer together than ever before for an unmissable in-person event in Prague on 21- 23/03  2023. \nOur new programme format will be focused on discussion\, debate\, collaborative learning\, and lots of valuable networking time! After a special opening session on Ukraine\, one track will be dedicated to the evolving risk landscape around issues such as geopolitical tension\, societal unrest\, technology and the rise of AI and new considerations on travel risk. \nIn parallel\, we will examine how security supports business strategy\, diving into what the post COP26 economy means for security teams\, internal collaboration with Risk Management\, Compliance and HR\, how to function effectively in remote work environments\, engaging the next generation of security talent\, and how ESRM is being implemented.
URL:https://www.metzuda.co.il/event/asis-europe/
LOCATION:Česká\, Prague
CATEGORIES:תערוכות בטחון
ORGANIZER;CN="American%20society%20for%20industrial%20security":MAILTO:asis@asisonline.org
END:VEVENT
BEGIN:VEVENT
DTSTART;TZID=Europe/Helsinki:20230228T080000
DTEND;TZID=Europe/Helsinki:20230228T170000
DTSTAMP:20260422T025404
CREATED:20220606T112141Z
LAST-MODIFIED:20221227T095354Z
UID:1598-1677571200-1677603600@www.metzuda.co.il
SUMMARY:CYSEC QATAR SUMMIT 2023
DESCRIPTION:כנס אבטחת הסייבר שבקטאר
URL:https://www.metzuda.co.il/event/cysec-qatar-summit-2022/
LOCATION:מריוט מרקיז\, דוחא\, קטאר\, Doha\, Qatar
CATEGORIES:תערוכות סייבר
END:VEVENT
BEGIN:VEVENT
DTSTART;TZID=Europe/Helsinki:20230204T080000
DTEND;TZID=Europe/Helsinki:20230205T170000
DTSTAMP:20260422T025404
CREATED:20220718T104455Z
LAST-MODIFIED:20221228T122803Z
UID:1756-1675497600-1675616400@www.metzuda.co.il
SUMMARY:Florida Gun Shows FT- Myers
DESCRIPTION:תערוכת האקדחים של מאיירס פלורידה
URL:https://www.metzuda.co.il/event/florida-gun-shows-ft-myers/
LOCATION:Myers\, Florida\, United States
CATEGORIES:תערוכות נשק
END:VEVENT
BEGIN:VEVENT
DTSTART;TZID=Europe/Helsinki:20230117T080000
DTEND;TZID=Europe/Helsinki:20230119T170000
DTSTAMP:20260422T025404
CREATED:20220530T073508Z
LAST-MODIFIED:20220530T073606Z
UID:1425-1673942400-1674147600@www.metzuda.co.il
SUMMARY:Intersec exhibiti 2023
DESCRIPTION:יריד הסחר בתחום הביטחון הבטיחות והגנה מפני אש\, באיחוד האמירויות
URL:https://www.metzuda.co.il/event/intersec-exhibiti-2023/
CATEGORIES:תערוכות בטחון,תערוכות בטיחות
END:VEVENT
BEGIN:VEVENT
DTSTART;TZID=Europe/Helsinki:20230107T080000
DTEND;TZID=Europe/Helsinki:20230108T170000
DTSTAMP:20260422T025404
CREATED:20220718T102430Z
LAST-MODIFIED:20221228T131754Z
UID:1752-1673078400-1673197200@www.metzuda.co.il
SUMMARY:High Caliber Gun & Knife Show
DESCRIPTION:תערוכת נשק בפסדינה\, ארצות הברית.
URL:https://www.metzuda.co.il/event/high-caliber-gun-knife-show/
LOCATION:Pasadena\, USA\, Pasadena\, United States
CATEGORIES:תערוכות נשק
END:VEVENT
BEGIN:VEVENT
DTSTART;TZID=Europe/Helsinki:20221127T080000
DTEND;TZID=Europe/Helsinki:20221201T170000
DTSTAMP:20260422T025404
CREATED:20221011T115123Z
LAST-MODIFIED:20221011T115123Z
UID:3135-1669536000-1669914000@www.metzuda.co.il
SUMMARY:תערוכת ביטחון מידע וסייבר
DESCRIPTION:
URL:https://www.metzuda.co.il/event/%d7%aa%d7%a2%d7%a8%d7%95%d7%9b%d7%aa-%d7%91%d7%99%d7%98%d7%97%d7%95%d7%9f-%d7%9e%d7%99%d7%93%d7%a2-%d7%95%d7%a1%d7%99%d7%99%d7%91%d7%a8/
LOCATION:תל אביב\, טראסק-  אולם אירועים\, רח' יוסף יקותיאלי 6\, נמל תל אביב\, טראסק- אולם אירועים\, רח' יוסף יקותיאלי 6\, נמל תל אביב\, תל אביב יפו\, Israel
CATEGORIES:תערוכות סייבר
END:VEVENT
BEGIN:VEVENT
DTSTART;TZID=Europe/Helsinki:20221127T080000
DTEND;TZID=Europe/Helsinki:20221129T170000
DTSTAMP:20260422T025404
CREATED:20221023T162109Z
LAST-MODIFIED:20221023T162109Z
UID:3241-1669536000-1669741200@www.metzuda.co.il
SUMMARY:Israel HLS&CYBER 2022
DESCRIPTION:תערוכת ביטחון הפנים והסייבר בתל אביב
URL:https://www.metzuda.co.il/event/israel-hlscyber-2022/
LOCATION:מלון דיוויד אינטרקונטיננטל \, פרופסור יחזקאל קאופמן 12\, תל אביב\, פרופסור יחזקאל קאופמן 12\, תל אביב\, תל אביב יפו\, Israel
CATEGORIES:תערוכות בטחון,תערוכות סייבר
END:VEVENT
BEGIN:VEVENT
DTSTART;TZID=Europe/Helsinki:20221118T080000
DTEND;TZID=Europe/Helsinki:20221118T170000
DTSTAMP:20260422T025404
CREATED:20220602T080536Z
LAST-MODIFIED:20220602T080536Z
UID:1551-1668758400-1668790800@www.metzuda.co.il
SUMMARY:New York Cyber Security Summit
DESCRIPTION:ועידת אבטחת הסייבר בניו יורק ארצות הברית
URL:https://www.metzuda.co.il/event/new-york-cyber-security-summit/
LOCATION:Sheraton New York Times Square Hotel\, New York\, USA\, New York\, United States
CATEGORIES:תערוכות סייבר
END:VEVENT
BEGIN:VEVENT
DTSTART;TZID=Europe/Helsinki:20221116T103000
DTEND;TZID=Europe/Helsinki:20221118T170000
DTSTAMP:20260422T025404
CREATED:20220523T093126Z
LAST-MODIFIED:20220523T093126Z
UID:1301-1668594600-1668790800@www.metzuda.co.il
SUMMARY:ASIAN SECURITEX
DESCRIPTION:This exhibition is strictly open to professional trade and business visitors only. The general public and any children under 18 would not be admitted. Qualified trade buyers can bring along their business card for onsite registration. The Organiser reserves the rights to verify the trade identity of pre-registrants and to refuse admission to any visitors deemed inappropriate.
URL:https://www.metzuda.co.il/event/asian-securitex/
CATEGORIES:תערוכות בטחון
END:VEVENT
BEGIN:VEVENT
DTSTART;TZID=Europe/Helsinki:20221102T080000
DTEND;TZID=Europe/Helsinki:20221104T170000
DTSTAMP:20260422T025404
CREATED:20220529T071908Z
LAST-MODIFIED:20220529T071908Z
UID:1403-1667376000-1667581200@www.metzuda.co.il
SUMMARY:MAST Med 2022
DESCRIPTION:המפגש השנתי של קבוצת החימוש הימי של נאט"ו 2020 ביוון
URL:https://www.metzuda.co.il/event/mast-med-2022/
LOCATION:GRAND HYATT\, CENTRAL ATHENS\, Athens\, Greece
CATEGORIES:תערוכות בטחון
END:VEVENT
BEGIN:VEVENT
DTSTART;TZID=Europe/Helsinki:20221031T080000
DTEND;TZID=Europe/Helsinki:20221031T170000
DTSTAMP:20260422T025404
CREATED:20220816T084749Z
LAST-MODIFIED:20220816T084749Z
UID:2498-1667203200-1667235600@www.metzuda.co.il
SUMMARY:השתלמות ניהול אבטחת אירועים המוניים ואירועי ספורט - מכללת קורפוס
DESCRIPTION:השתלמות ניהול אבטחת אירועים המוניים ואירועי ספורט\, מונחה משטרת ישראל – מכללת קורפוס
URL:https://www.metzuda.co.il/event/%d7%94%d7%a9%d7%aa%d7%9c%d7%9e%d7%95%d7%aa-%d7%a0%d7%99%d7%94%d7%95%d7%9c-%d7%90%d7%91%d7%98%d7%97%d7%aa-%d7%90%d7%99%d7%a8%d7%95%d7%a2%d7%99%d7%9d-%d7%94%d7%9e%d7%95%d7%a0%d7%99%d7%99%d7%9d-%d7%95-5/
LOCATION:היסמין 1\, רמת אפעל\, 5296000\, היסמין 1\, רמת אפעל\, Israel
CATEGORIES:קורסים ורענונים
END:VEVENT
BEGIN:VEVENT
DTSTART;TZID=Europe/Helsinki:20221025T080000
DTEND;TZID=Europe/Helsinki:20221025T170000
DTSTAMP:20260422T025404
CREATED:20220816T084602Z
LAST-MODIFIED:20220816T084602Z
UID:2495-1666684800-1666717200@www.metzuda.co.il
SUMMARY:השתלמות ניהול אבטחת אירועים המוניים ואירועי ספורט - מכללת קורפוס
DESCRIPTION:השתלמות ניהול אבטחת אירועים המוניים ואירועי ספורט\, מונחה משטרת ישראל – מכללת קורפוס
URL:https://www.metzuda.co.il/event/%d7%94%d7%a9%d7%aa%d7%9c%d7%9e%d7%95%d7%aa-%d7%a0%d7%99%d7%94%d7%95%d7%9c-%d7%90%d7%91%d7%98%d7%97%d7%aa-%d7%90%d7%99%d7%a8%d7%95%d7%a2%d7%99%d7%9d-%d7%94%d7%9e%d7%95%d7%a0%d7%99%d7%99%d7%9d-%d7%95-4/
LOCATION:היסמין 1\, רמת אפעל\, 5296000\, היסמין 1\, רמת אפעל\, Israel
CATEGORIES:קורסים ורענונים
END:VEVENT
BEGIN:VEVENT
DTSTART;TZID=Europe/Helsinki:20221019T080000
DTEND;TZID=Europe/Helsinki:20221019T170000
DTSTAMP:20260422T025404
CREATED:20220816T062613Z
LAST-MODIFIED:20220816T062922Z
UID:2492-1666166400-1666198800@www.metzuda.co.il
SUMMARY:השתלמות ניהול אבטחת אירועים המוניים ואירועי ספורט - מכללת קורפוס
DESCRIPTION:השתלמות ניהול אבטחת אירועים המוניים ואירועי ספורט\, מונחה משטרת ישראל – מכללת קורפוס
URL:https://www.metzuda.co.il/event/%d7%94%d7%a9%d7%aa%d7%9c%d7%9e%d7%95%d7%aa-%d7%a0%d7%99%d7%94%d7%95%d7%9c-%d7%90%d7%91%d7%98%d7%97%d7%aa-%d7%90%d7%99%d7%a8%d7%95%d7%a2%d7%99%d7%9d-%d7%94%d7%9e%d7%95%d7%a0%d7%99%d7%99%d7%9d-%d7%95-3/
LOCATION:היסמין 1\, רמת אפעל\, 5296000\, היסמין 1\, רמת אפעל\, Israel
CATEGORIES:קורסים ורענונים
END:VEVENT
BEGIN:VEVENT
DTSTART;TZID=Europe/Helsinki:20221006T080000
DTEND;TZID=Europe/Helsinki:20221006T170000
DTSTAMP:20260422T025404
CREATED:20220816T062426Z
LAST-MODIFIED:20220816T062426Z
UID:2490-1665043200-1665075600@www.metzuda.co.il
SUMMARY:השתלמות ניהול אבטחת אירועים המוניים ואירועי ספורט - מכללת קורפוס
DESCRIPTION:השתלמות ניהול אבטחת אירועים המוניים ואירועי ספורט\, מונחה משטרת ישראל – מכללת קורפוס
URL:https://www.metzuda.co.il/event/%d7%94%d7%a9%d7%aa%d7%9c%d7%9e%d7%95%d7%aa-%d7%a0%d7%99%d7%94%d7%95%d7%9c-%d7%90%d7%91%d7%98%d7%97%d7%aa-%d7%90%d7%99%d7%a8%d7%95%d7%a2%d7%99%d7%9d-%d7%94%d7%9e%d7%95%d7%a0%d7%99%d7%99%d7%9d-%d7%95-2/
LOCATION:היסמין 1\, רמת אפעל\, 5296000\, היסמין 1\, רמת אפעל\, Israel
CATEGORIES:קורסים ורענונים
END:VEVENT
BEGIN:VEVENT
DTSTART;TZID=Europe/Helsinki:20221003T080000
DTEND;TZID=Europe/Helsinki:20221003T170000
DTSTAMP:20260422T025404
CREATED:20220814T125500Z
LAST-MODIFIED:20220816T054045Z
UID:2414-1664784000-1664816400@www.metzuda.co.il
SUMMARY:ריענון למנהלי אבטחה לניהול אירועים במרכז ללימודי חוץ של אוניברסיטת אריאל
DESCRIPTION:ריענון למנהלי אבטחה לניהול אירועים במרכז ללימודי חוץ של אוניברסיטת אריאל חלק שני
URL:https://www.metzuda.co.il/event/%d7%a8%d7%99%d7%a2%d7%a0%d7%95%d7%9f-%d7%9c%d7%9e%d7%a0%d7%94%d7%9c%d7%99-%d7%90%d7%91%d7%98%d7%97%d7%94-%d7%9c%d7%a0%d7%99%d7%94%d7%95%d7%9c-%d7%90%d7%99%d7%a8%d7%95%d7%a2%d7%99%d7%9d-%d7%91%d7%9e-2/
LOCATION:שדרות ההשכלה 20\, תל אביב-יפו\, תל אביב - יפו\, Israel
CATEGORIES:קורסים ורענונים
END:VEVENT
BEGIN:VEVENT
DTSTART;TZID=Europe/Helsinki:20221002T080000
DTEND;TZID=Europe/Helsinki:20221003T170000
DTSTAMP:20260422T025404
CREATED:20220816T060236Z
LAST-MODIFIED:20220816T060236Z
UID:2473-1664697600-1664816400@www.metzuda.co.il
SUMMARY:קורס מפעילי מוקד - מכללת קורפוס
DESCRIPTION:קורס מפעילי מוקד\, מונחה משטרת ישראל – מכללת קורפוס בימים 29/09\, 02/10\, 03/10
URL:https://www.metzuda.co.il/event/%d7%a7%d7%95%d7%a8%d7%a1-%d7%9e%d7%a4%d7%a2%d7%99%d7%9c%d7%99-%d7%9e%d7%95%d7%a7%d7%93-%d7%9e%d7%9b%d7%9c%d7%9c%d7%aa-%d7%a7%d7%95%d7%a8%d7%a4%d7%95%d7%a1-2/
LOCATION:היסמין 1\, רמת אפעל\, 5296000\, היסמין 1\, רמת אפעל\, Israel
CATEGORIES:קורסים ורענונים
END:VEVENT
BEGIN:VEVENT
DTSTART;TZID=Europe/Helsinki:20220929T080000
DTEND;TZID=Europe/Helsinki:20220929T170000
DTSTAMP:20260422T025404
CREATED:20220928T105804Z
LAST-MODIFIED:20220928T105946Z
UID:3072-1664438400-1664470800@www.metzuda.co.il
SUMMARY:כנס קב"טים ארצי
DESCRIPTION:
URL:https://www.metzuda.co.il/event/%d7%9b%d7%a0%d7%a1-%d7%90%d7%99%d7%92%d7%95%d7%93-%d7%a7%d7%a6%d7%99%d7%a0%d7%99-%d7%94%d7%91%d7%99%d7%98%d7%97%d7%95%d7%9f-%d7%95%d7%9e%d7%a0%d7%94%d7%9c%d7%99-%d7%94%d7%97%d7%99%d7%a8%d7%95%d7%9d/
LOCATION:D-one אולם אירועים דרום השרון
CATEGORIES:כנסי אבטחה ובטיחות
END:VEVENT
BEGIN:VEVENT
DTSTART;TZID=Europe/Helsinki:20220929T080000
DTEND;TZID=Europe/Helsinki:20220929T170000
DTSTAMP:20260422T025404
CREATED:20220816T062318Z
LAST-MODIFIED:20220816T062318Z
UID:2487-1664438400-1664470800@www.metzuda.co.il
SUMMARY:השתלמות ניהול אבטחת אירועים המוניים ואירועי ספורט - מכללת קורפוס
DESCRIPTION:השתלמות ניהול אבטחת אירועים המוניים ואירועי ספורט\, מונחה משטרת ישראל – מכללת קורפוס
URL:https://www.metzuda.co.il/event/%d7%94%d7%a9%d7%aa%d7%9c%d7%9e%d7%95%d7%aa-%d7%a0%d7%99%d7%94%d7%95%d7%9c-%d7%90%d7%91%d7%98%d7%97%d7%aa-%d7%90%d7%99%d7%a8%d7%95%d7%a2%d7%99%d7%9d-%d7%94%d7%9e%d7%95%d7%a0%d7%99%d7%99%d7%9d-%d7%95/
LOCATION:היסמין 1\, רמת אפעל\, 5296000\, היסמין 1\, רמת אפעל\, Israel
CATEGORIES:קורסים ורענונים
END:VEVENT
END:VCALENDAR